BEGIN:VCALENDAR
VERSION:2.0
PRODID:-//Jericho Sailing Centre - ECPv6.15.20//NONSGML v1.0//EN
CALSCALE:GREGORIAN
METHOD:PUBLISH
X-WR-CALNAME:Jericho Sailing Centre
X-ORIGINAL-URL:https://jsca.bc.ca
X-WR-CALDESC:Events for Jericho Sailing Centre
REFRESH-INTERVAL;VALUE=DURATION:PT1H
X-Robots-Tag:noindex
X-PUBLISHED-TTL:PT1H
BEGIN:VTIMEZONE
TZID:America/Vancouver
BEGIN:DAYLIGHT
TZOFFSETFROM:-0800
TZOFFSETTO:-0700
TZNAME:PDT
DTSTART:20180311T100000
END:DAYLIGHT
BEGIN:STANDARD
TZOFFSETFROM:-0700
TZOFFSETTO:-0800
TZNAME:PST
DTSTART:20181104T090000
END:STANDARD
BEGIN:DAYLIGHT
TZOFFSETFROM:-0800
TZOFFSETTO:-0700
TZNAME:PDT
DTSTART:20190310T100000
END:DAYLIGHT
BEGIN:STANDARD
TZOFFSETFROM:-0700
TZOFFSETTO:-0800
TZNAME:PST
DTSTART:20191103T090000
END:STANDARD
BEGIN:DAYLIGHT
TZOFFSETFROM:-0800
TZOFFSETTO:-0700
TZNAME:PDT
DTSTART:20200308T100000
END:DAYLIGHT
BEGIN:STANDARD
TZOFFSETFROM:-0700
TZOFFSETTO:-0800
TZNAME:PST
DTSTART:20201101T090000
END:STANDARD
BEGIN:DAYLIGHT
TZOFFSETFROM:-0800
TZOFFSETTO:-0700
TZNAME:PDT
DTSTART:20210314T100000
END:DAYLIGHT
BEGIN:STANDARD
TZOFFSETFROM:-0700
TZOFFSETTO:-0800
TZNAME:PST
DTSTART:20211107T090000
END:STANDARD
END:VTIMEZONE
BEGIN:VTIMEZONE
TZID:America/Los_Angeles
BEGIN:DAYLIGHT
TZOFFSETFROM:-0800
TZOFFSETTO:-0700
TZNAME:PDT
DTSTART:20180311T100000
END:DAYLIGHT
BEGIN:STANDARD
TZOFFSETFROM:-0700
TZOFFSETTO:-0800
TZNAME:PST
DTSTART:20181104T090000
END:STANDARD
BEGIN:DAYLIGHT
TZOFFSETFROM:-0800
TZOFFSETTO:-0700
TZNAME:PDT
DTSTART:20190310T100000
END:DAYLIGHT
BEGIN:STANDARD
TZOFFSETFROM:-0700
TZOFFSETTO:-0800
TZNAME:PST
DTSTART:20191103T090000
END:STANDARD
BEGIN:DAYLIGHT
TZOFFSETFROM:-0800
TZOFFSETTO:-0700
TZNAME:PDT
DTSTART:20200308T100000
END:DAYLIGHT
BEGIN:STANDARD
TZOFFSETFROM:-0700
TZOFFSETTO:-0800
TZNAME:PST
DTSTART:20201101T090000
END:STANDARD
BEGIN:DAYLIGHT
TZOFFSETFROM:-0800
TZOFFSETTO:-0700
TZNAME:PDT
DTSTART:20210314T100000
END:DAYLIGHT
BEGIN:STANDARD
TZOFFSETFROM:-0700
TZOFFSETTO:-0800
TZNAME:PST
DTSTART:20211107T090000
END:STANDARD
END:VTIMEZONE
BEGIN:VEVENT
DTSTART;TZID=America/Vancouver:20200412T123000
DTEND;TZID=America/Vancouver:20200412T160000
DTSTAMP:20260422T024321
CREATED:20191206T002132Z
LAST-MODIFIED:20200321T163951Z
UID:10001064-1586694600-1586707200@jsca.bc.ca
SUMMARY:Cancelled – Penguin Cup - spring race day 2
DESCRIPTION:All JSCA events scheduled during April are cancelled due to COVID-19. \nEarly season racing open to all classes of Jericho style dinghies. First signal at 1230 hrs. This year’s Penguin Cup series will feature updated sailing instructions. Please be sure to check this space for the updated document once it is finalized. Registration\, scoring and results available at jracing.org. \nSailing Instructions
URL:https://jsca.bc.ca/event/penguin-cup-spring-race-day-2/
LOCATION:Jericho Sailing Centre\, 1300 Discovery St\, Vancouver\, British Columbia\, V6R 4L9\, Canada
CATEGORIES:Penguin Cup,Sail
ATTACH;FMTTYPE=image/jpeg:https://jsca.bc.ca/wp-content/uploads/2018/05/jc1.jpg
END:VEVENT
BEGIN:VEVENT
DTSTART;TZID=America/Vancouver:20200405T123000
DTEND;TZID=America/Vancouver:20200405T160000
DTSTAMP:20260422T024321
CREATED:20191206T001808Z
LAST-MODIFIED:20200321T163810Z
UID:10001063-1586089800-1586102400@jsca.bc.ca
SUMMARY:CANCELLED – Penguin Cup - spring race day 1
DESCRIPTION:All JSCA programs are cancelled for the month of April due to COVID-19. \nEarly season racing open to all classes of Jericho style dinghies. First signal at 1230 hrs. This year’s Penguin Cup series will feature updated sailing instructions. Please be sure to check this space for the updated document once it is finalized. Registration\, scoring and results available at jracing.org. \nSailing Instructions
URL:https://jsca.bc.ca/event/penguin-cup-spring-race-day-1/
LOCATION:Jericho Sailing Centre\, 1300 Discovery St\, Vancouver\, British Columbia\, V6R 4L9\, Canada
CATEGORIES:Penguin Cup,Sail
ATTACH;FMTTYPE=image/jpeg:https://jsca.bc.ca/wp-content/uploads/2017/03/2017-03-08-01.jpg
END:VEVENT
BEGIN:VEVENT
DTSTART;TZID=America/Vancouver:20200405T110000
DTEND;TZID=America/Vancouver:20200405T130000
DTSTAMP:20260422T024321
CREATED:20200212T192927Z
LAST-MODIFIED:20200321T165941Z
UID:10001115-1586084400-1586091600@jsca.bc.ca
SUMMARY:CANCELLED – Discover Club Locarno
DESCRIPTION:All JSCA events scheduled for April have been cancelled due to COVID-19. Please get in touch with Club Locarno directly if you have any questions regarding the club. \nClub Locarno\, a non-profit club\, offers boat sharing with benefits in our sailing\, windsurfing\, kayaking\, rowing and stand-up paddle boarding fleets. Join us for a no-obligation event that starts with a presentation at 11:00 am sharp. After the presentation there will be a tour of the Jericho Sailing Centre (home of Club Locarno) and of the fleets and equipment\, all led by our volunteer Fleet Directors. Finish on the best deck in Vancouver\, to get know our team of volunteers and our water sports community. Click here to register.
URL:https://jsca.bc.ca/event/discover-club-locarno/
LOCATION:Jericho Sailing Centre\, 1300 Discovery St\, Vancouver\, British Columbia\, V6R 4L9\, Canada
CATEGORIES:Club Events,Club Locarno,Community
ATTACH;FMTTYPE=image/jpeg:https://jsca.bc.ca/wp-content/uploads/2019/08/club-locarno-1.jpg
END:VEVENT
BEGIN:VEVENT
DTSTART;TZID=America/Vancouver:20200215T110000
DTEND;TZID=America/Vancouver:20200215T130000
DTSTAMP:20260422T024321
CREATED:20191114T231905Z
LAST-MODIFIED:20191209T232954Z
UID:10001060-1581764400-1581771600@jsca.bc.ca
SUMMARY:PNWORCA Winter Series Race #4
DESCRIPTION:Winter series smallboat race open to OC1 /2\, SUP and surfski – this will be a mass start at 1100 hrs and about a 10 km event.
URL:https://jsca.bc.ca/event/pnworca-winter-series-race-4/
LOCATION:Jericho Sailing Centre\, 1300 Discovery St\, Vancouver\, British Columbia\, V6R 4L9\, Canada
CATEGORIES:Club Events,Jericho Paddling Club,Paddle
ATTACH;FMTTYPE=image/jpeg:https://jsca.bc.ca/wp-content/uploads/2019/04/wavec1.jpg
END:VEVENT
BEGIN:VEVENT
DTSTART;TZID=America/Vancouver:20200212T173000
DTEND;TZID=America/Vancouver:20200212T173000
DTSTAMP:20260422T024321
CREATED:20191212T210723Z
LAST-MODIFIED:20200121T001801Z
UID:10001114-1581528600-1581528600@jsca.bc.ca
SUMMARY:Safety Committee meeting
DESCRIPTION:The JSCA Safety Committee meets from time to time to discuss our safety programs and assets.
URL:https://jsca.bc.ca/event/safety-committee-meeting/
LOCATION:Jericho Sailing Centre\, 1300 Discovery St\, Vancouver\, British Columbia\, V6R 4L9\, Canada
CATEGORIES:JSCA Governance
ATTACH;FMTTYPE=image/jpeg:https://jsca.bc.ca/wp-content/uploads/2019/12/IMG_21741.jpg
ORGANIZER;CN="Jericho Sailing Centre Association":MAILTO:info@jsca.bc.ca
END:VEVENT
BEGIN:VEVENT
DTSTART;VALUE=DATE:20200205
DTEND;VALUE=DATE:20200210
DTSTAMP:20260422T024321
CREATED:20191205T210844Z
LAST-MODIFIED:20191212T221854Z
UID:10001062-1580860800-1581292799@jsca.bc.ca
SUMMARY:Vancouver International Boat Show
DESCRIPTION:The 2020 Vancouver International Boat Show provides opportunities to explore hundreds of boats\, boating accessories\, products and services from top boating exhibitors. For more information\, paddle over to http://www.vancouverboatshow.ca. \nWe are asking for current JSCA members to help crew the Jericho Sailing Centre Association’s display booth at the Vancouver International Boat Show from February 5-9 at BC Place Stadium. Members who volunteer for a two-hour “watch” will gain free admission to the show and the admiration of thousands of show going seafarers from all over. A great place to meet people and shoot the breeze about the Jericho Sailing Centre and all of the low-cost ocean access opportunities we provide. \nJericho booth crew must enter BC Place Stadium through the Exhibitors Entrance on the east side to get their pass (picture ID required) on their scheduled day. It is suggested that crew members take public transit to the show as parking costs an arm and a leg and JSCA does not cover any expenses. \nPlease call the JSCA office if you would like to volunteer for this event. \nJSCA Boat Show booth map
URL:https://jsca.bc.ca/event/vancouver-international-boat-show/
LOCATION:BC Place Stadium\, 777 Pacific Blvd\,\, Vancouver\, BC\, V6B 4Y8\, Canada
CATEGORIES:Community
ATTACH;FMTTYPE=image/png:https://jsca.bc.ca/wp-content/uploads/2019/12/main-overlay-2020-B.png
END:VEVENT
BEGIN:VEVENT
DTSTART;VALUE=DATE:20191223
DTEND;VALUE=DATE:20200102
DTSTAMP:20260422T024321
CREATED:20191020T215728Z
LAST-MODIFIED:20191020T215843Z
UID:10001058-1577059200-1577923199@jsca.bc.ca
SUMMARY:Winter Office Closure
DESCRIPTION:The JSCA office will be closed for our Winter Office Closure from December 23\, 2019 to January 1st\, re-opening on January 2nd 2020.
URL:https://jsca.bc.ca/event/winter-office-closure/
LOCATION:Jericho Sailing Centre\, 1300 Discovery St\, Vancouver\, British Columbia\, V6R 4L9\, Canada
CATEGORIES:Community,JSCA Governance
END:VEVENT
BEGIN:VEVENT
DTSTART;TZID=America/Vancouver:20191203T180000
DTEND;TZID=America/Vancouver:20191203T200000
DTSTAMP:20260422T024321
CREATED:20191121T000756Z
LAST-MODIFIED:20191121T000935Z
UID:10001061-1575396000-1575403200@jsca.bc.ca
SUMMARY:Operations Committee Meeting
DESCRIPTION:The JSCA Operations Committee serves as the Jericho Sailing Centre’s technical maintenance committee for the building\, compound\, ramps and beaches. \nJSCA members are encouraged to participate on committees to help us ensure that the JSCA best serves the needs of all members.  If you are unable to personally attend but have some ideas you’d like to see happen please send them along via return email.
URL:https://jsca.bc.ca/event/operations-committee-meeting/
LOCATION:Jericho Sailing Centre\, 1300 Discovery St\, Vancouver\, British Columbia\, V6R 4L9\, Canada
CATEGORIES:JSCA Governance
ATTACH;FMTTYPE=image/jpeg:https://jsca.bc.ca/wp-content/uploads/2018/05/aerial.jpg
END:VEVENT
BEGIN:VEVENT
DTSTART;TZID=America/Los_Angeles:20191126T180000
DTEND;TZID=America/Los_Angeles:20191126T210000
DTSTAMP:20260422T024321
CREATED:20191012T174531Z
LAST-MODIFIED:20191012T174736Z
UID:10001057-1574791200-1574802000@jsca.bc.ca
SUMMARY:JSCA Fleet Planning Meeting
DESCRIPTION:Meeting to determine the schedule of events for the coming 2020 season. Open to all JSCA members – especially fleet representatives and event hosts/organizers.
URL:https://jsca.bc.ca/event/jsca-fleet-planning-meeting/
LOCATION:British Columbia
CATEGORIES:JSCA Governance,Paddle,Row,Sail
END:VEVENT
BEGIN:VEVENT
DTSTART;TZID=America/Los_Angeles:20191112T180000
DTEND;TZID=America/Los_Angeles:20191112T210000
DTSTAMP:20260422T024321
CREATED:20191012T173828Z
LAST-MODIFIED:20191012T173828Z
UID:10001056-1573581600-1573592400@jsca.bc.ca
SUMMARY:JSCA Board meeting
DESCRIPTION:Meeting of the JSCA Board
URL:https://jsca.bc.ca/event/jsca-board-meeting/
LOCATION:Jericho Sailing Centre\, 1300 Discovery St\, Vancouver\, British Columbia\, V6R 4L9\, Canada
CATEGORIES:JSCA Governance
END:VEVENT
END:VCALENDAR