BEGIN:VCALENDAR
VERSION:2.0
PRODID:-//Jericho Sailing Centre - ECPv6.15.20//NONSGML v1.0//EN
CALSCALE:GREGORIAN
METHOD:PUBLISH
X-ORIGINAL-URL:https://jsca.bc.ca
X-WR-CALDESC:Events for Jericho Sailing Centre
REFRESH-INTERVAL;VALUE=DURATION:PT1H
X-Robots-Tag:noindex
X-PUBLISHED-TTL:PT1H
BEGIN:VTIMEZONE
TZID:America/Vancouver
BEGIN:DAYLIGHT
TZOFFSETFROM:-0800
TZOFFSETTO:-0700
TZNAME:PDT
DTSTART:20200308T100000
END:DAYLIGHT
BEGIN:STANDARD
TZOFFSETFROM:-0700
TZOFFSETTO:-0800
TZNAME:PST
DTSTART:20201101T090000
END:STANDARD
BEGIN:DAYLIGHT
TZOFFSETFROM:-0800
TZOFFSETTO:-0700
TZNAME:PDT
DTSTART:20210314T100000
END:DAYLIGHT
BEGIN:STANDARD
TZOFFSETFROM:-0700
TZOFFSETTO:-0800
TZNAME:PST
DTSTART:20211107T090000
END:STANDARD
BEGIN:DAYLIGHT
TZOFFSETFROM:-0800
TZOFFSETTO:-0700
TZNAME:PDT
DTSTART:20220313T100000
END:DAYLIGHT
BEGIN:STANDARD
TZOFFSETFROM:-0700
TZOFFSETTO:-0800
TZNAME:PST
DTSTART:20221106T090000
END:STANDARD
END:VTIMEZONE
BEGIN:VEVENT
DTSTART;TZID=America/Vancouver:20210912T123000
DTEND;TZID=America/Vancouver:20210912T170000
DTSTAMP:20260421T061618
CREATED:20210825T221012Z
LAST-MODIFIED:20210927T200307Z
UID:10001226-1631449800-1631466000@jsca.bc.ca
SUMMARY:Penguin Cup Racing
DESCRIPTION:Informal late season regular racing for Jericho style sail boats. \nCompetitors must register online at jracing.org in order to be scored. \n2021 NOTICE OF RACE Penguin Cup \nJSCA SIs with courses Jan 2020 \n 
URL:https://jsca.bc.ca/event/penguin-cup-racing/2021-09-12/
LOCATION:Jericho Sailing Centre\, 1300 Discovery St\, Vancouver\, British Columbia\, V6R 4L9\, Canada
ORGANIZER;CN="Jericho Sailing Centre Association":MAILTO:info@jsca.bc.ca
END:VEVENT
BEGIN:VEVENT
DTSTART;TZID=America/Vancouver:20210911T120000
DTEND;TZID=America/Vancouver:20210911T210000
DTSTAMP:20260421T061618
CREATED:20210831T012242Z
LAST-MODIFIED:20210831T012955Z
UID:10001234-1631361600-1631394000@jsca.bc.ca
SUMMARY:Oceanfest
DESCRIPTION:SCHEDULE\n12:00pm – 5k PADDLESPORT RACE Surfski\, Kayak\, SUP\, Prone\, OC1\n2:00pm – 2k SUP TECHNICAL RACE (2x1000m loop)\n3:00pm – 1k OCEAN SWIM (2x500m loop)\n4:00pm – 3 PERSON PRONE RELAY RACE\n5:00pm – OCEANMAN RELAY Swim Run Paddle (500m swim\, 750m run\, 1.5km paddle) – Surfski\, Kayak\, SUP\, Prone\, OC1. Relay is 3 people.\n6:00pm – LOGBALL WORLD CHAMPIONSHIPS\, included with any entry \n7:30 pm -Live Music with the Lollygaggers!! \n  \nCOST\n\n$30 for 1 event\n$40 for 2 events or more -choice of 5km \,2km\, swim (relays separate entry $10/person)\n$10 per person for 3 person PRONE Paddleboard Relay\n$10 per person for 3 person OCEANMAN relay (swim\, run\,paddle)
URL:https://jsca.bc.ca/event/oceanfest/
LOCATION:Jericho Sailing Centre\, 1300 Discovery St\, Vancouver\, British Columbia\, V6R 4L9\, Canada
CATEGORIES:Community,Paddle
ATTACH;FMTTYPE=image/jpeg:https://jsca.bc.ca/wp-content/uploads/2021/08/IMG_1312.jpg
END:VEVENT
BEGIN:VEVENT
DTSTART;TZID=America/Vancouver:20210909T190000
DTEND;TZID=America/Vancouver:20210909T190000
DTSTAMP:20260421T061618
CREATED:20210305T222041Z
LAST-MODIFIED:20210825T220331Z
UID:10001040-1631214000-1631214000@jsca.bc.ca
SUMMARY:Wavechaser Paddle Series
DESCRIPTION:
URL:https://jsca.bc.ca/event/wavechaser-paddle-series-2-2021-05-27/2021-09-09/
LOCATION:Jericho Sailing Centre\, 1300 Discovery St\, Vancouver\, British Columbia\, V6R 4L9\, Canada
ATTACH;FMTTYPE=image/jpeg:https://jsca.bc.ca/wp-content/uploads/2019/08/paddling.jpg
ORGANIZER;CN="Jericho Sailing Centre Association":MAILTO:info@jsca.bc.ca
END:VEVENT
BEGIN:VEVENT
DTSTART;TZID=America/Vancouver:20210907T181500
DTEND;TZID=America/Vancouver:20210907T181500
DTSTAMP:20260421T061618
CREATED:20210305T221655Z
LAST-MODIFIED:20210526T233507Z
UID:10001021-1631038500-1631038500@jsca.bc.ca
SUMMARY:Tuesday Nite Racing Series
DESCRIPTION:Regular informal sailing dinghy racing for all Jericho classes. First signal is at 1815 hrs. Registration and results available at jracing.org. \n2021 NOTICE OF RACE Tuesday Nite \nJSCA SIs with courses
URL:https://jsca.bc.ca/event/tuesday-nite-racing-series-2021-05-25/2021-09-07/
LOCATION:Jericho Sailing Centre\, 1300 Discovery St\, Vancouver\, British Columbia\, V6R 4L9\, Canada
CATEGORIES:Tuesday Nite Racing
ATTACH;FMTTYPE=image/jpeg:https://jsca.bc.ca/wp-content/uploads/2017/08/1.jpg
ORGANIZER;CN="Jericho Sailing Centre Association":MAILTO:info@jsca.bc.ca
END:VEVENT
BEGIN:VEVENT
DTSTART;TZID=America/Vancouver:20210905T123000
DTEND;TZID=America/Vancouver:20210905T170000
DTSTAMP:20260421T061618
CREATED:20210305T221059Z
LAST-MODIFIED:20210526T233245Z
UID:10001221-1630845000-1630861200@jsca.bc.ca
SUMMARY:Sunday Racing Series
DESCRIPTION:Regular informal Sunday afternoon racing for Jericho style sailing dinghies. Registration and results available at jracing.org. \n2021 NOTICE OF RACE Sunday Racing \nJSCA SIs with courses
URL:https://jsca.bc.ca/event/sunday-racing-series-2021-05-30/2021-09-05/
LOCATION:Jericho Sailing Centre\, 1300 Discovery St\, Vancouver\, British Columbia\, V6R 4L9\, Canada
CATEGORIES:Sunday Racing
ATTACH;FMTTYPE=image/jpeg:https://jsca.bc.ca/wp-content/uploads/2019/06/unnamed-10.jpg
END:VEVENT
BEGIN:VEVENT
DTSTART;TZID=America/Vancouver:20210902T190000
DTEND;TZID=America/Vancouver:20210902T190000
DTSTAMP:20260421T061618
CREATED:20210305T222041Z
LAST-MODIFIED:20210825T220331Z
UID:10001039-1630609200-1630609200@jsca.bc.ca
SUMMARY:Wavechaser Paddle Series
DESCRIPTION:
URL:https://jsca.bc.ca/event/wavechaser-paddle-series-2-2021-05-27/2021-09-02/
LOCATION:Jericho Sailing Centre\, 1300 Discovery St\, Vancouver\, British Columbia\, V6R 4L9\, Canada
ATTACH;FMTTYPE=image/jpeg:https://jsca.bc.ca/wp-content/uploads/2019/08/paddling.jpg
ORGANIZER;CN="Jericho Sailing Centre Association":MAILTO:info@jsca.bc.ca
END:VEVENT
BEGIN:VEVENT
DTSTART;TZID=America/Vancouver:20210831T181500
DTEND;TZID=America/Vancouver:20210831T181500
DTSTAMP:20260421T061618
CREATED:20210305T221655Z
LAST-MODIFIED:20210526T233507Z
UID:10001020-1630433700-1630433700@jsca.bc.ca
SUMMARY:Tuesday Nite Racing Series
DESCRIPTION:Regular informal sailing dinghy racing for all Jericho classes. First signal is at 1815 hrs. Registration and results available at jracing.org. \n2021 NOTICE OF RACE Tuesday Nite \nJSCA SIs with courses
URL:https://jsca.bc.ca/event/tuesday-nite-racing-series-2021-05-25/2021-08-31/
LOCATION:Jericho Sailing Centre\, 1300 Discovery St\, Vancouver\, British Columbia\, V6R 4L9\, Canada
CATEGORIES:Tuesday Nite Racing
ATTACH;FMTTYPE=image/jpeg:https://jsca.bc.ca/wp-content/uploads/2017/08/1.jpg
ORGANIZER;CN="Jericho Sailing Centre Association":MAILTO:info@jsca.bc.ca
END:VEVENT
BEGIN:VEVENT
DTSTART;TZID=America/Vancouver:20210829T123000
DTEND;TZID=America/Vancouver:20210829T170000
DTSTAMP:20260421T061618
CREATED:20210305T221059Z
LAST-MODIFIED:20210526T233245Z
UID:10001220-1630240200-1630256400@jsca.bc.ca
SUMMARY:Sunday Racing Series
DESCRIPTION:Regular informal Sunday afternoon racing for Jericho style sailing dinghies. Registration and results available at jracing.org. \n2021 NOTICE OF RACE Sunday Racing \nJSCA SIs with courses
URL:https://jsca.bc.ca/event/sunday-racing-series-2021-05-30/2021-08-29/
LOCATION:Jericho Sailing Centre\, 1300 Discovery St\, Vancouver\, British Columbia\, V6R 4L9\, Canada
CATEGORIES:Sunday Racing
ATTACH;FMTTYPE=image/jpeg:https://jsca.bc.ca/wp-content/uploads/2019/06/unnamed-10.jpg
END:VEVENT
BEGIN:VEVENT
DTSTART;TZID=America/Vancouver:20210826T190000
DTEND;TZID=America/Vancouver:20210826T190000
DTSTAMP:20260421T061618
CREATED:20210305T222041Z
LAST-MODIFIED:20210825T220331Z
UID:10001038-1630004400-1630004400@jsca.bc.ca
SUMMARY:Wavechaser Paddle Series
DESCRIPTION:
URL:https://jsca.bc.ca/event/wavechaser-paddle-series-2-2021-05-27/2021-08-26/
LOCATION:Jericho Sailing Centre\, 1300 Discovery St\, Vancouver\, British Columbia\, V6R 4L9\, Canada
ATTACH;FMTTYPE=image/jpeg:https://jsca.bc.ca/wp-content/uploads/2019/08/paddling.jpg
ORGANIZER;CN="Jericho Sailing Centre Association":MAILTO:info@jsca.bc.ca
END:VEVENT
BEGIN:VEVENT
DTSTART;TZID=America/Vancouver:20210824T181500
DTEND;TZID=America/Vancouver:20210824T181500
DTSTAMP:20260421T061618
CREATED:20210305T221655Z
LAST-MODIFIED:20210526T233507Z
UID:10001019-1629828900-1629828900@jsca.bc.ca
SUMMARY:Tuesday Nite Racing Series
DESCRIPTION:Regular informal sailing dinghy racing for all Jericho classes. First signal is at 1815 hrs. Registration and results available at jracing.org. \n2021 NOTICE OF RACE Tuesday Nite \nJSCA SIs with courses
URL:https://jsca.bc.ca/event/tuesday-nite-racing-series-2021-05-25/2021-08-24/
LOCATION:Jericho Sailing Centre\, 1300 Discovery St\, Vancouver\, British Columbia\, V6R 4L9\, Canada
CATEGORIES:Tuesday Nite Racing
ATTACH;FMTTYPE=image/jpeg:https://jsca.bc.ca/wp-content/uploads/2017/08/1.jpg
ORGANIZER;CN="Jericho Sailing Centre Association":MAILTO:info@jsca.bc.ca
END:VEVENT
BEGIN:VEVENT
DTSTART;TZID=America/Vancouver:20210822T123000
DTEND;TZID=America/Vancouver:20210822T170000
DTSTAMP:20260421T061618
CREATED:20210305T221059Z
LAST-MODIFIED:20210526T233245Z
UID:10001219-1629635400-1629651600@jsca.bc.ca
SUMMARY:Sunday Racing Series
DESCRIPTION:Regular informal Sunday afternoon racing for Jericho style sailing dinghies. Registration and results available at jracing.org. \n2021 NOTICE OF RACE Sunday Racing \nJSCA SIs with courses
URL:https://jsca.bc.ca/event/sunday-racing-series-2021-05-30/2021-08-22/
LOCATION:Jericho Sailing Centre\, 1300 Discovery St\, Vancouver\, British Columbia\, V6R 4L9\, Canada
CATEGORIES:Sunday Racing
ATTACH;FMTTYPE=image/jpeg:https://jsca.bc.ca/wp-content/uploads/2019/06/unnamed-10.jpg
END:VEVENT
BEGIN:VEVENT
DTSTART;TZID=America/Vancouver:20210821T113000
DTEND;TZID=America/Vancouver:20210822T183000
DTSTAMP:20260421T061618
CREATED:20210809T233348Z
LAST-MODIFIED:20210817T031313Z
UID:10001225-1629545400-1629657000@jsca.bc.ca
SUMMARY:Jericho Rum Runner Regatta
DESCRIPTION:A two-day event for catamarans. Day one is a distance sailing event while day two consists of course racing. Results are combined to declare an overall winner. \n2021 NOTICE OF RACE Rum Runner \nRum Runner SIs Aug 2021 with courses
URL:https://jsca.bc.ca/event/jericho-rum-runner-regatta/
LOCATION:Jericho Sailing Centre\, 1300 Discovery St\, Vancouver\, British Columbia\, V6R 4L9\, Canada
CATEGORIES:Sail
ATTACH;FMTTYPE=image/jpeg:https://jsca.bc.ca/wp-content/uploads/2020/08/Aug_2020-33816.jpg
ORGANIZER;CN="Jericho Sailing Centre Association":MAILTO:info@jsca.bc.ca
END:VEVENT
BEGIN:VEVENT
DTSTART;TZID=America/Vancouver:20210819T190000
DTEND;TZID=America/Vancouver:20210819T190000
DTSTAMP:20260421T061618
CREATED:20210305T222041Z
LAST-MODIFIED:20210825T220331Z
UID:10001037-1629399600-1629399600@jsca.bc.ca
SUMMARY:Wavechaser Paddle Series
DESCRIPTION:
URL:https://jsca.bc.ca/event/wavechaser-paddle-series-2-2021-05-27/2021-08-19/
LOCATION:Jericho Sailing Centre\, 1300 Discovery St\, Vancouver\, British Columbia\, V6R 4L9\, Canada
ATTACH;FMTTYPE=image/jpeg:https://jsca.bc.ca/wp-content/uploads/2019/08/paddling.jpg
ORGANIZER;CN="Jericho Sailing Centre Association":MAILTO:info@jsca.bc.ca
END:VEVENT
BEGIN:VEVENT
DTSTART;TZID=America/Vancouver:20210817T181500
DTEND;TZID=America/Vancouver:20210817T181500
DTSTAMP:20260421T061618
CREATED:20210305T221655Z
LAST-MODIFIED:20210526T233507Z
UID:10001018-1629224100-1629224100@jsca.bc.ca
SUMMARY:Tuesday Nite Racing Series
DESCRIPTION:Regular informal sailing dinghy racing for all Jericho classes. First signal is at 1815 hrs. Registration and results available at jracing.org. \n2021 NOTICE OF RACE Tuesday Nite \nJSCA SIs with courses
URL:https://jsca.bc.ca/event/tuesday-nite-racing-series-2021-05-25/2021-08-17/
LOCATION:Jericho Sailing Centre\, 1300 Discovery St\, Vancouver\, British Columbia\, V6R 4L9\, Canada
CATEGORIES:Tuesday Nite Racing
ATTACH;FMTTYPE=image/jpeg:https://jsca.bc.ca/wp-content/uploads/2017/08/1.jpg
ORGANIZER;CN="Jericho Sailing Centre Association":MAILTO:info@jsca.bc.ca
END:VEVENT
BEGIN:VEVENT
DTSTART;TZID=America/Vancouver:20210815T123000
DTEND;TZID=America/Vancouver:20210815T170000
DTSTAMP:20260421T061618
CREATED:20210305T221059Z
LAST-MODIFIED:20210526T233245Z
UID:10001218-1629030600-1629046800@jsca.bc.ca
SUMMARY:Sunday Racing Series
DESCRIPTION:Regular informal Sunday afternoon racing for Jericho style sailing dinghies. Registration and results available at jracing.org. \n2021 NOTICE OF RACE Sunday Racing \nJSCA SIs with courses
URL:https://jsca.bc.ca/event/sunday-racing-series-2021-05-30/2021-08-15/
LOCATION:Jericho Sailing Centre\, 1300 Discovery St\, Vancouver\, British Columbia\, V6R 4L9\, Canada
CATEGORIES:Sunday Racing
ATTACH;FMTTYPE=image/jpeg:https://jsca.bc.ca/wp-content/uploads/2019/06/unnamed-10.jpg
END:VEVENT
BEGIN:VEVENT
DTSTART;TZID=America/Vancouver:20210814T160000
DTEND;TZID=America/Vancouver:20210814T183000
DTSTAMP:20260421T061618
CREATED:20210713T231221Z
LAST-MODIFIED:20210713T231221Z
UID:10001043-1628956800-1628965800@jsca.bc.ca
SUMMARY:JSCA Rookie Racing Seminar
DESCRIPTION:Interested in racing sailboats but do not know where to start? Our Rookie Racing Seminar introduces the basics of sailboat racing and demystifies all the flags\, sounds and marks. The seminar is scheduled for late Saturday afternoon with the goal of preparing you for participation in our regular Sunday racing program the next day. \nThis seminar will happen on Zoom. Email us for the link and click-in August 14th at 1600 hrs.
URL:https://jsca.bc.ca/event/jsca-rookie-racing-seminar/
LOCATION:Virtual
CATEGORIES:Community,Sail
ATTACH;FMTTYPE=image/jpeg:https://jsca.bc.ca/wp-content/uploads/2018/05/send1.jpg
ORGANIZER;CN="Jericho Sailing Centre Association":MAILTO:info@jsca.bc.ca
END:VEVENT
BEGIN:VEVENT
DTSTART;TZID=America/Vancouver:20210812T190000
DTEND;TZID=America/Vancouver:20210812T190000
DTSTAMP:20260421T061618
CREATED:20210305T222041Z
LAST-MODIFIED:20210825T220331Z
UID:10001036-1628794800-1628794800@jsca.bc.ca
SUMMARY:Wavechaser Paddle Series
DESCRIPTION:
URL:https://jsca.bc.ca/event/wavechaser-paddle-series-2-2021-05-27/2021-08-12/
LOCATION:Jericho Sailing Centre\, 1300 Discovery St\, Vancouver\, British Columbia\, V6R 4L9\, Canada
ATTACH;FMTTYPE=image/jpeg:https://jsca.bc.ca/wp-content/uploads/2019/08/paddling.jpg
ORGANIZER;CN="Jericho Sailing Centre Association":MAILTO:info@jsca.bc.ca
END:VEVENT
BEGIN:VEVENT
DTSTART;TZID=America/Vancouver:20210810T181500
DTEND;TZID=America/Vancouver:20210810T181500
DTSTAMP:20260421T061618
CREATED:20210305T221655Z
LAST-MODIFIED:20210526T233507Z
UID:10001017-1628619300-1628619300@jsca.bc.ca
SUMMARY:Tuesday Nite Racing Series
DESCRIPTION:Regular informal sailing dinghy racing for all Jericho classes. First signal is at 1815 hrs. Registration and results available at jracing.org. \n2021 NOTICE OF RACE Tuesday Nite \nJSCA SIs with courses
URL:https://jsca.bc.ca/event/tuesday-nite-racing-series-2021-05-25/2021-08-10/
LOCATION:Jericho Sailing Centre\, 1300 Discovery St\, Vancouver\, British Columbia\, V6R 4L9\, Canada
CATEGORIES:Tuesday Nite Racing
ATTACH;FMTTYPE=image/jpeg:https://jsca.bc.ca/wp-content/uploads/2017/08/1.jpg
ORGANIZER;CN="Jericho Sailing Centre Association":MAILTO:info@jsca.bc.ca
END:VEVENT
BEGIN:VEVENT
DTSTART;TZID=America/Vancouver:20210809T190000
DTEND;TZID=America/Vancouver:20210809T190000
DTSTAMP:20260421T061618
CREATED:20210129T231822Z
LAST-MODIFIED:20210129T233639Z
UID:10001197-1628535600-1628535600@jsca.bc.ca
SUMMARY:JSCA Board of Directors meeting
DESCRIPTION:Meeting of the JSCA’s Board of Directors.  Members of the association are always welcome to observe the meetings.   If there is a particular issue that a member would like to bring up with the board it is asked that they provide Mike Cotter\, our general manager\, with a request to do so before hand.
URL:https://jsca.bc.ca/event/jsca-board-of-directors-meeting-5/
LOCATION:British Columbia
CATEGORIES:JSCA Governance
ATTACH;FMTTYPE=image/jpeg:https://jsca.bc.ca/wp-content/uploads/2019/12/Board_Meeting-1.jpg
ORGANIZER;CN="Jericho Sailing Centre Association":MAILTO:info@jsca.bc.ca
END:VEVENT
BEGIN:VEVENT
DTSTART;TZID=America/Vancouver:20210808T123000
DTEND;TZID=America/Vancouver:20210808T170000
DTSTAMP:20260421T061618
CREATED:20210305T221059Z
LAST-MODIFIED:20210526T233245Z
UID:10001217-1628425800-1628442000@jsca.bc.ca
SUMMARY:Sunday Racing Series
DESCRIPTION:Regular informal Sunday afternoon racing for Jericho style sailing dinghies. Registration and results available at jracing.org. \n2021 NOTICE OF RACE Sunday Racing \nJSCA SIs with courses
URL:https://jsca.bc.ca/event/sunday-racing-series-2021-05-30/2021-08-08/
LOCATION:Jericho Sailing Centre\, 1300 Discovery St\, Vancouver\, British Columbia\, V6R 4L9\, Canada
CATEGORIES:Sunday Racing
ATTACH;FMTTYPE=image/jpeg:https://jsca.bc.ca/wp-content/uploads/2019/06/unnamed-10.jpg
END:VEVENT
BEGIN:VEVENT
DTSTART;TZID=America/Vancouver:20210805T190000
DTEND;TZID=America/Vancouver:20210805T190000
DTSTAMP:20260421T061618
CREATED:20210305T222041Z
LAST-MODIFIED:20210825T220331Z
UID:10001035-1628190000-1628190000@jsca.bc.ca
SUMMARY:Wavechaser Paddle Series
DESCRIPTION:
URL:https://jsca.bc.ca/event/wavechaser-paddle-series-2-2021-05-27/2021-08-05/
LOCATION:Jericho Sailing Centre\, 1300 Discovery St\, Vancouver\, British Columbia\, V6R 4L9\, Canada
ATTACH;FMTTYPE=image/jpeg:https://jsca.bc.ca/wp-content/uploads/2019/08/paddling.jpg
ORGANIZER;CN="Jericho Sailing Centre Association":MAILTO:info@jsca.bc.ca
END:VEVENT
BEGIN:VEVENT
DTSTART;TZID=America/Vancouver:20210803T181500
DTEND;TZID=America/Vancouver:20210803T181500
DTSTAMP:20260421T061618
CREATED:20210305T221655Z
LAST-MODIFIED:20210526T233507Z
UID:10001016-1628014500-1628014500@jsca.bc.ca
SUMMARY:Tuesday Nite Racing Series
DESCRIPTION:Regular informal sailing dinghy racing for all Jericho classes. First signal is at 1815 hrs. Registration and results available at jracing.org. \n2021 NOTICE OF RACE Tuesday Nite \nJSCA SIs with courses
URL:https://jsca.bc.ca/event/tuesday-nite-racing-series-2021-05-25/2021-08-03/
LOCATION:Jericho Sailing Centre\, 1300 Discovery St\, Vancouver\, British Columbia\, V6R 4L9\, Canada
CATEGORIES:Tuesday Nite Racing
ATTACH;FMTTYPE=image/jpeg:https://jsca.bc.ca/wp-content/uploads/2017/08/1.jpg
ORGANIZER;CN="Jericho Sailing Centre Association":MAILTO:info@jsca.bc.ca
END:VEVENT
BEGIN:VEVENT
DTSTART;TZID=America/Vancouver:20210801T123000
DTEND;TZID=America/Vancouver:20210801T170000
DTSTAMP:20260421T061618
CREATED:20210305T221059Z
LAST-MODIFIED:20210526T233245Z
UID:10001216-1627821000-1627837200@jsca.bc.ca
SUMMARY:Sunday Racing Series
DESCRIPTION:Regular informal Sunday afternoon racing for Jericho style sailing dinghies. Registration and results available at jracing.org. \n2021 NOTICE OF RACE Sunday Racing \nJSCA SIs with courses
URL:https://jsca.bc.ca/event/sunday-racing-series-2021-05-30/2021-08-01/
LOCATION:Jericho Sailing Centre\, 1300 Discovery St\, Vancouver\, British Columbia\, V6R 4L9\, Canada
CATEGORIES:Sunday Racing
ATTACH;FMTTYPE=image/jpeg:https://jsca.bc.ca/wp-content/uploads/2019/06/unnamed-10.jpg
END:VEVENT
BEGIN:VEVENT
DTSTART;TZID=America/Vancouver:20210729T190000
DTEND;TZID=America/Vancouver:20210729T190000
DTSTAMP:20260421T061618
CREATED:20210305T222041Z
LAST-MODIFIED:20210825T220331Z
UID:10001034-1627585200-1627585200@jsca.bc.ca
SUMMARY:Wavechaser Paddle Series
DESCRIPTION:
URL:https://jsca.bc.ca/event/wavechaser-paddle-series-2-2021-05-27/2021-07-29/
LOCATION:Jericho Sailing Centre\, 1300 Discovery St\, Vancouver\, British Columbia\, V6R 4L9\, Canada
ATTACH;FMTTYPE=image/jpeg:https://jsca.bc.ca/wp-content/uploads/2019/08/paddling.jpg
ORGANIZER;CN="Jericho Sailing Centre Association":MAILTO:info@jsca.bc.ca
END:VEVENT
BEGIN:VEVENT
DTSTART;TZID=America/Vancouver:20210727T181500
DTEND;TZID=America/Vancouver:20210727T181500
DTSTAMP:20260421T061618
CREATED:20210305T221655Z
LAST-MODIFIED:20210526T233507Z
UID:10001015-1627409700-1627409700@jsca.bc.ca
SUMMARY:Tuesday Nite Racing Series
DESCRIPTION:Regular informal sailing dinghy racing for all Jericho classes. First signal is at 1815 hrs. Registration and results available at jracing.org. \n2021 NOTICE OF RACE Tuesday Nite \nJSCA SIs with courses
URL:https://jsca.bc.ca/event/tuesday-nite-racing-series-2021-05-25/2021-07-27/
LOCATION:Jericho Sailing Centre\, 1300 Discovery St\, Vancouver\, British Columbia\, V6R 4L9\, Canada
CATEGORIES:Tuesday Nite Racing
ATTACH;FMTTYPE=image/jpeg:https://jsca.bc.ca/wp-content/uploads/2017/08/1.jpg
ORGANIZER;CN="Jericho Sailing Centre Association":MAILTO:info@jsca.bc.ca
END:VEVENT
BEGIN:VEVENT
DTSTART;TZID=America/Vancouver:20210725T123000
DTEND;TZID=America/Vancouver:20210725T170000
DTSTAMP:20260421T061618
CREATED:20210305T221059Z
LAST-MODIFIED:20210526T233245Z
UID:10001215-1627216200-1627232400@jsca.bc.ca
SUMMARY:Sunday Racing Series
DESCRIPTION:Regular informal Sunday afternoon racing for Jericho style sailing dinghies. Registration and results available at jracing.org. \n2021 NOTICE OF RACE Sunday Racing \nJSCA SIs with courses
URL:https://jsca.bc.ca/event/sunday-racing-series-2021-05-30/2021-07-25/
LOCATION:Jericho Sailing Centre\, 1300 Discovery St\, Vancouver\, British Columbia\, V6R 4L9\, Canada
CATEGORIES:Sunday Racing
ATTACH;FMTTYPE=image/jpeg:https://jsca.bc.ca/wp-content/uploads/2019/06/unnamed-10.jpg
END:VEVENT
BEGIN:VEVENT
DTSTART;TZID=America/Vancouver:20210722T190000
DTEND;TZID=America/Vancouver:20210722T190000
DTSTAMP:20260421T061618
CREATED:20210305T222041Z
LAST-MODIFIED:20210825T220331Z
UID:10001033-1626980400-1626980400@jsca.bc.ca
SUMMARY:Wavechaser Paddle Series
DESCRIPTION:
URL:https://jsca.bc.ca/event/wavechaser-paddle-series-2-2021-05-27/2021-07-22/
LOCATION:Jericho Sailing Centre\, 1300 Discovery St\, Vancouver\, British Columbia\, V6R 4L9\, Canada
ATTACH;FMTTYPE=image/jpeg:https://jsca.bc.ca/wp-content/uploads/2019/08/paddling.jpg
ORGANIZER;CN="Jericho Sailing Centre Association":MAILTO:info@jsca.bc.ca
END:VEVENT
BEGIN:VEVENT
DTSTART;TZID=America/Vancouver:20210720T181500
DTEND;TZID=America/Vancouver:20210720T181500
DTSTAMP:20260421T061618
CREATED:20210305T221655Z
LAST-MODIFIED:20210526T233507Z
UID:10001014-1626804900-1626804900@jsca.bc.ca
SUMMARY:Tuesday Nite Racing Series
DESCRIPTION:Regular informal sailing dinghy racing for all Jericho classes. First signal is at 1815 hrs. Registration and results available at jracing.org. \n2021 NOTICE OF RACE Tuesday Nite \nJSCA SIs with courses
URL:https://jsca.bc.ca/event/tuesday-nite-racing-series-2021-05-25/2021-07-20/
LOCATION:Jericho Sailing Centre\, 1300 Discovery St\, Vancouver\, British Columbia\, V6R 4L9\, Canada
CATEGORIES:Tuesday Nite Racing
ATTACH;FMTTYPE=image/jpeg:https://jsca.bc.ca/wp-content/uploads/2017/08/1.jpg
ORGANIZER;CN="Jericho Sailing Centre Association":MAILTO:info@jsca.bc.ca
END:VEVENT
BEGIN:VEVENT
DTSTART;TZID=America/Vancouver:20210718T123000
DTEND;TZID=America/Vancouver:20210718T170000
DTSTAMP:20260421T061618
CREATED:20210305T221059Z
LAST-MODIFIED:20210526T233245Z
UID:10001214-1626611400-1626627600@jsca.bc.ca
SUMMARY:Sunday Racing Series
DESCRIPTION:Regular informal Sunday afternoon racing for Jericho style sailing dinghies. Registration and results available at jracing.org. \n2021 NOTICE OF RACE Sunday Racing \nJSCA SIs with courses
URL:https://jsca.bc.ca/event/sunday-racing-series-2021-05-30/2021-07-18/
LOCATION:Jericho Sailing Centre\, 1300 Discovery St\, Vancouver\, British Columbia\, V6R 4L9\, Canada
CATEGORIES:Sunday Racing
ATTACH;FMTTYPE=image/jpeg:https://jsca.bc.ca/wp-content/uploads/2019/06/unnamed-10.jpg
END:VEVENT
BEGIN:VEVENT
DTSTART;TZID=America/Vancouver:20210717T103000
DTEND;TZID=America/Vancouver:20210718T170000
DTSTAMP:20260421T061618
CREATED:20210710T202154Z
LAST-MODIFIED:20210714T010303Z
UID:10001042-1626517800-1626627600@jsca.bc.ca
SUMMARY:Jericho Cat Classic
DESCRIPTION:Two day course racing event for International F18\, Hobie 18\, Hobie 17 and Hobie 16 classes. Saturday will be exclusive to Catamaran classes while Sunday’s racing will be folded into our regular Sunday series for all Jericho style sail craft. \nIncluded in race fees ($15 per person) is a BBQ for participants and volunteers that will be take place after the conclusion of racing on Saturday. \n2021 NOTICE OF RACE Cat Classic \nJSCA Cat Classic SIs with courses Jul 2021 \nRegistration at jracing.org.
URL:https://jsca.bc.ca/event/jericho-cat-classic/
LOCATION:Jericho Sailing Centre\, 1300 Discovery St\, Vancouver\, British Columbia\, V6R 4L9\, Canada
CATEGORIES:Sail
ATTACH;FMTTYPE=image/jpeg:https://jsca.bc.ca/wp-content/uploads/2021/06/HobieClinic.jpg
ORGANIZER;CN="Jericho Sailing Centre Association":MAILTO:info@jsca.bc.ca
END:VEVENT
END:VCALENDAR