BEGIN:VCALENDAR
VERSION:2.0
PRODID:-//Jericho Sailing Centre - ECPv6.15.20//NONSGML v1.0//EN
CALSCALE:GREGORIAN
METHOD:PUBLISH
X-WR-CALNAME:Jericho Sailing Centre
X-ORIGINAL-URL:https://jsca.bc.ca
X-WR-CALDESC:Events for Jericho Sailing Centre
REFRESH-INTERVAL;VALUE=DURATION:PT1H
X-Robots-Tag:noindex
X-PUBLISHED-TTL:PT1H
BEGIN:VTIMEZONE
TZID:America/Vancouver
BEGIN:DAYLIGHT
TZOFFSETFROM:-0800
TZOFFSETTO:-0700
TZNAME:PDT
DTSTART:20200308T100000
END:DAYLIGHT
BEGIN:STANDARD
TZOFFSETFROM:-0700
TZOFFSETTO:-0800
TZNAME:PST
DTSTART:20201101T090000
END:STANDARD
BEGIN:DAYLIGHT
TZOFFSETFROM:-0800
TZOFFSETTO:-0700
TZNAME:PDT
DTSTART:20210314T100000
END:DAYLIGHT
BEGIN:STANDARD
TZOFFSETFROM:-0700
TZOFFSETTO:-0800
TZNAME:PST
DTSTART:20211107T090000
END:STANDARD
BEGIN:DAYLIGHT
TZOFFSETFROM:-0800
TZOFFSETTO:-0700
TZNAME:PDT
DTSTART:20220313T100000
END:DAYLIGHT
BEGIN:STANDARD
TZOFFSETFROM:-0700
TZOFFSETTO:-0800
TZNAME:PST
DTSTART:20221106T090000
END:STANDARD
BEGIN:DAYLIGHT
TZOFFSETFROM:-0800
TZOFFSETTO:-0700
TZNAME:PDT
DTSTART:20230312T100000
END:DAYLIGHT
BEGIN:STANDARD
TZOFFSETFROM:-0700
TZOFFSETTO:-0800
TZNAME:PST
DTSTART:20231105T090000
END:STANDARD
END:VTIMEZONE
BEGIN:VEVENT
DTSTART;TZID=America/Vancouver:20220521T190000
DTEND;TZID=America/Vancouver:20220521T203000
DTSTAMP:20260420T194917
CREATED:20220214T224858Z
LAST-MODIFIED:20220214T224858Z
UID:10001298-1653159600-1653165000@jsca.bc.ca
SUMMARY:Rookie Racing Dry Land Seminar – demystifying sail boat racing
DESCRIPTION:One of the best ways to increase your sailing abilities is to race your sail boat. However\, all the rules\, regulations\, flags\, and horns can be more than a little confusing. \nOpen to all JSCA members this dry land seminar is an introductory chalk talk designed to demystify sail boat racing. Enough of the basic rules\, procedures and tactics are presented to get you out on the race course the following day. \nSign-up in person in the office or by email or phone 604.224.4177.
URL:https://jsca.bc.ca/event/rookie-racing-dry-land-seminar-demystifying-sail-boat-racing/2022-05-21/
LOCATION:Jericho Sailing Centre\, 1300 Discovery St\, Vancouver\, British Columbia\, V6R 4L9\, Canada
CATEGORIES:Sail
ATTACH;FMTTYPE=image/jpeg:https://jsca.bc.ca/wp-content/uploads/2022/02/SeaToSky2020-34113.jpg
ORGANIZER;CN="Jericho Sailing Centre Association":MAILTO:info@jsca.bc.ca
END:VEVENT
BEGIN:VEVENT
DTSTART;TZID=America/Vancouver:20220519T180000
DTEND;TZID=America/Vancouver:20220519T180000
DTSTAMP:20260420T194917
CREATED:20220123T223717Z
LAST-MODIFIED:20220123T225812Z
UID:10001264-1652983200-1652983200@jsca.bc.ca
SUMMARY:Jericho Wavechaser Paddle Race Series
DESCRIPTION:Paddle racing every Thursday evening from mid April to the end of August open to all level of paddlers in outrigger\, SUP\, surfski\, prone\, and kayak. Courses vary depending on conditions. Each race night has a short and a long course. Check-in starts at 6 pm\, race starts at 7 pm. Registration details and further information available at wavechaser.jsca.bc.ca. \nRace fees are $5 for Jericho Sailing Centre members and $10 for non-members.
URL:https://jsca.bc.ca/event/jericho-wavechaser-paddle-race-series/2022-05-19/
LOCATION:Jericho Sailing Centre\, 1300 Discovery St\, Vancouver\, British Columbia\, V6R 4L9\, Canada
CATEGORIES:Jericho Paddling Club,Paddle,Wavechaser
ATTACH;FMTTYPE=image/jpeg:https://jsca.bc.ca/wp-content/uploads/2021/06/Wavechaser_image.jpg
END:VEVENT
BEGIN:VEVENT
DTSTART;TZID=America/Vancouver:20220517T181500
DTEND;TZID=America/Vancouver:20220517T203000
DTSTAMP:20260420T194917
CREATED:20220120T225304Z
LAST-MODIFIED:20220120T230026Z
UID:10001242-1652811300-1652819400@jsca.bc.ca
SUMMARY:Tuesday Nite Racing
DESCRIPTION:Casual drop-in dinghy racing for all Jericho style boats. Competitors should register at jracing.org. First warning signal is at 1815 hrs. \n2022 NOTICE OF RACE Tuesday Nite \nSailing Instructions
URL:https://jsca.bc.ca/event/tuesday-nite-racing-2/2022-05-17/
LOCATION:Jericho Sailing Centre\, 1300 Discovery St\, Vancouver\, British Columbia\, V6R 4L9\, Canada
CATEGORIES:Sail,Tuesday Nite Racing
ATTACH;FMTTYPE=image/jpeg:https://jsca.bc.ca/wp-content/uploads/2022/01/XT39957-2.jpg
ORGANIZER;CN="Jericho Sailing Centre Association":MAILTO:info@jsca.bc.ca
END:VEVENT
BEGIN:VEVENT
DTSTART;TZID=America/Vancouver:20220515T123000
DTEND;TZID=America/Vancouver:20220515T170000
DTSTAMP:20260420T194917
CREATED:20220124T002846Z
LAST-MODIFIED:20220124T002846Z
UID:10001281-1652617800-1652634000@jsca.bc.ca
SUMMARY:Sunday Racing Series
DESCRIPTION:Regular Sunday afternoon informal sail racing for Jericho style dinghies. First signal at 1230 hrs. Register beforehand at jracing.org. \nNotice of race: 2022 NOTICE OF RACE Sunday Racing \nSailing Instructions: JSCA SIs with courses \n 
URL:https://jsca.bc.ca/event/sunday-racing-series-2/2022-05-15/
LOCATION:Jericho Sailing Centre\, 1300 Discovery St\, Vancouver\, British Columbia\, V6R 4L9\, Canada
CATEGORIES:Sail,Sunday Racing
ATTACH;FMTTYPE=image/jpeg:https://jsca.bc.ca/wp-content/uploads/2022/01/XT30384.jpg
ORGANIZER;CN="Jericho Sailing Centre Association":MAILTO:info@jsca.bc.ca
END:VEVENT
BEGIN:VEVENT
DTSTART;TZID=America/Vancouver:20220512T180000
DTEND;TZID=America/Vancouver:20220512T180000
DTSTAMP:20260420T194917
CREATED:20220123T223717Z
LAST-MODIFIED:20220123T225812Z
UID:10001263-1652378400-1652378400@jsca.bc.ca
SUMMARY:Jericho Wavechaser Paddle Race Series
DESCRIPTION:Paddle racing every Thursday evening from mid April to the end of August open to all level of paddlers in outrigger\, SUP\, surfski\, prone\, and kayak. Courses vary depending on conditions. Each race night has a short and a long course. Check-in starts at 6 pm\, race starts at 7 pm. Registration details and further information available at wavechaser.jsca.bc.ca. \nRace fees are $5 for Jericho Sailing Centre members and $10 for non-members.
URL:https://jsca.bc.ca/event/jericho-wavechaser-paddle-race-series/2022-05-12/
LOCATION:Jericho Sailing Centre\, 1300 Discovery St\, Vancouver\, British Columbia\, V6R 4L9\, Canada
CATEGORIES:Jericho Paddling Club,Paddle,Wavechaser
ATTACH;FMTTYPE=image/jpeg:https://jsca.bc.ca/wp-content/uploads/2021/06/Wavechaser_image.jpg
END:VEVENT
BEGIN:VEVENT
DTSTART;TZID=America/Vancouver:20220510T181500
DTEND;TZID=America/Vancouver:20220510T203000
DTSTAMP:20260420T194917
CREATED:20220120T225304Z
LAST-MODIFIED:20220120T230026Z
UID:10001241-1652206500-1652214600@jsca.bc.ca
SUMMARY:Tuesday Nite Racing
DESCRIPTION:Casual drop-in dinghy racing for all Jericho style boats. Competitors should register at jracing.org. First warning signal is at 1815 hrs. \n2022 NOTICE OF RACE Tuesday Nite \nSailing Instructions
URL:https://jsca.bc.ca/event/tuesday-nite-racing-2/2022-05-10/
LOCATION:Jericho Sailing Centre\, 1300 Discovery St\, Vancouver\, British Columbia\, V6R 4L9\, Canada
CATEGORIES:Sail,Tuesday Nite Racing
ATTACH;FMTTYPE=image/jpeg:https://jsca.bc.ca/wp-content/uploads/2022/01/XT39957-2.jpg
ORGANIZER;CN="Jericho Sailing Centre Association":MAILTO:info@jsca.bc.ca
END:VEVENT
BEGIN:VEVENT
DTSTART;TZID=America/Vancouver:20220508T123000
DTEND;TZID=America/Vancouver:20220508T170000
DTSTAMP:20260420T194917
CREATED:20220124T002846Z
LAST-MODIFIED:20220124T002846Z
UID:10001280-1652013000-1652029200@jsca.bc.ca
SUMMARY:Sunday Racing Series
DESCRIPTION:Regular Sunday afternoon informal sail racing for Jericho style dinghies. First signal at 1230 hrs. Register beforehand at jracing.org. \nNotice of race: 2022 NOTICE OF RACE Sunday Racing \nSailing Instructions: JSCA SIs with courses \n 
URL:https://jsca.bc.ca/event/sunday-racing-series-2/2022-05-08/
LOCATION:Jericho Sailing Centre\, 1300 Discovery St\, Vancouver\, British Columbia\, V6R 4L9\, Canada
CATEGORIES:Sail,Sunday Racing
ATTACH;FMTTYPE=image/jpeg:https://jsca.bc.ca/wp-content/uploads/2022/01/XT30384.jpg
ORGANIZER;CN="Jericho Sailing Centre Association":MAILTO:info@jsca.bc.ca
END:VEVENT
BEGIN:VEVENT
DTSTART;TZID=America/Vancouver:20220505T180000
DTEND;TZID=America/Vancouver:20220505T180000
DTSTAMP:20260420T194917
CREATED:20220123T223717Z
LAST-MODIFIED:20220123T225812Z
UID:10001262-1651773600-1651773600@jsca.bc.ca
SUMMARY:Jericho Wavechaser Paddle Race Series
DESCRIPTION:Paddle racing every Thursday evening from mid April to the end of August open to all level of paddlers in outrigger\, SUP\, surfski\, prone\, and kayak. Courses vary depending on conditions. Each race night has a short and a long course. Check-in starts at 6 pm\, race starts at 7 pm. Registration details and further information available at wavechaser.jsca.bc.ca. \nRace fees are $5 for Jericho Sailing Centre members and $10 for non-members.
URL:https://jsca.bc.ca/event/jericho-wavechaser-paddle-race-series/2022-05-05/
LOCATION:Jericho Sailing Centre\, 1300 Discovery St\, Vancouver\, British Columbia\, V6R 4L9\, Canada
CATEGORIES:Jericho Paddling Club,Paddle,Wavechaser
ATTACH;FMTTYPE=image/jpeg:https://jsca.bc.ca/wp-content/uploads/2021/06/Wavechaser_image.jpg
END:VEVENT
BEGIN:VEVENT
DTSTART;TZID=America/Vancouver:20220503T181500
DTEND;TZID=America/Vancouver:20220503T203000
DTSTAMP:20260420T194917
CREATED:20220120T225304Z
LAST-MODIFIED:20220120T230026Z
UID:10001240-1651601700-1651609800@jsca.bc.ca
SUMMARY:Tuesday Nite Racing
DESCRIPTION:Casual drop-in dinghy racing for all Jericho style boats. Competitors should register at jracing.org. First warning signal is at 1815 hrs. \n2022 NOTICE OF RACE Tuesday Nite \nSailing Instructions
URL:https://jsca.bc.ca/event/tuesday-nite-racing-2/2022-05-03/
LOCATION:Jericho Sailing Centre\, 1300 Discovery St\, Vancouver\, British Columbia\, V6R 4L9\, Canada
CATEGORIES:Sail,Tuesday Nite Racing
ATTACH;FMTTYPE=image/jpeg:https://jsca.bc.ca/wp-content/uploads/2022/01/XT39957-2.jpg
ORGANIZER;CN="Jericho Sailing Centre Association":MAILTO:info@jsca.bc.ca
END:VEVENT
BEGIN:VEVENT
DTSTART;TZID=America/Vancouver:20220501T123000
DTEND;TZID=America/Vancouver:20220501T170000
DTSTAMP:20260420T194917
CREATED:20220124T002846Z
LAST-MODIFIED:20220124T002846Z
UID:10001279-1651408200-1651424400@jsca.bc.ca
SUMMARY:Sunday Racing Series
DESCRIPTION:Regular Sunday afternoon informal sail racing for Jericho style dinghies. First signal at 1230 hrs. Register beforehand at jracing.org. \nNotice of race: 2022 NOTICE OF RACE Sunday Racing \nSailing Instructions: JSCA SIs with courses \n 
URL:https://jsca.bc.ca/event/sunday-racing-series-2/2022-05-01/
LOCATION:Jericho Sailing Centre\, 1300 Discovery St\, Vancouver\, British Columbia\, V6R 4L9\, Canada
CATEGORIES:Sail,Sunday Racing
ATTACH;FMTTYPE=image/jpeg:https://jsca.bc.ca/wp-content/uploads/2022/01/XT30384.jpg
ORGANIZER;CN="Jericho Sailing Centre Association":MAILTO:info@jsca.bc.ca
END:VEVENT
BEGIN:VEVENT
DTSTART;TZID=America/Vancouver:20220428T180000
DTEND;TZID=America/Vancouver:20220428T180000
DTSTAMP:20260420T194917
CREATED:20220123T223717Z
LAST-MODIFIED:20220123T225812Z
UID:10001261-1651168800-1651168800@jsca.bc.ca
SUMMARY:Jericho Wavechaser Paddle Race Series
DESCRIPTION:Paddle racing every Thursday evening from mid April to the end of August open to all level of paddlers in outrigger\, SUP\, surfski\, prone\, and kayak. Courses vary depending on conditions. Each race night has a short and a long course. Check-in starts at 6 pm\, race starts at 7 pm. Registration details and further information available at wavechaser.jsca.bc.ca. \nRace fees are $5 for Jericho Sailing Centre members and $10 for non-members.
URL:https://jsca.bc.ca/event/jericho-wavechaser-paddle-race-series/2022-04-28/
LOCATION:Jericho Sailing Centre\, 1300 Discovery St\, Vancouver\, British Columbia\, V6R 4L9\, Canada
CATEGORIES:Jericho Paddling Club,Paddle,Wavechaser
ATTACH;FMTTYPE=image/jpeg:https://jsca.bc.ca/wp-content/uploads/2021/06/Wavechaser_image.jpg
END:VEVENT
BEGIN:VEVENT
DTSTART;TZID=America/Vancouver:20220421T180000
DTEND;TZID=America/Vancouver:20220421T180000
DTSTAMP:20260420T194917
CREATED:20220123T223717Z
LAST-MODIFIED:20220123T225812Z
UID:10001260-1650564000-1650564000@jsca.bc.ca
SUMMARY:Jericho Wavechaser Paddle Race Series
DESCRIPTION:Paddle racing every Thursday evening from mid April to the end of August open to all level of paddlers in outrigger\, SUP\, surfski\, prone\, and kayak. Courses vary depending on conditions. Each race night has a short and a long course. Check-in starts at 6 pm\, race starts at 7 pm. Registration details and further information available at wavechaser.jsca.bc.ca. \nRace fees are $5 for Jericho Sailing Centre members and $10 for non-members.
URL:https://jsca.bc.ca/event/jericho-wavechaser-paddle-race-series/2022-04-21/
LOCATION:Jericho Sailing Centre\, 1300 Discovery St\, Vancouver\, British Columbia\, V6R 4L9\, Canada
CATEGORIES:Jericho Paddling Club,Paddle,Wavechaser
ATTACH;FMTTYPE=image/jpeg:https://jsca.bc.ca/wp-content/uploads/2021/06/Wavechaser_image.jpg
END:VEVENT
BEGIN:VEVENT
DTSTART;TZID=America/Vancouver:20220417T100000
DTEND;TZID=America/Vancouver:20220417T170000
DTSTAMP:20260420T194917
CREATED:20220131T193127Z
LAST-MODIFIED:20220415T184755Z
UID:10001296-1650189600-1650214800@jsca.bc.ca
SUMMARY:2022 Flights of Spring Regatta
DESCRIPTION:Hosted by the Jericho ILCA (Laser) fleet this regatta is open to ILCA 7\, ILCA 6\, ILCA 4\, Tasar\, F18\, Hobie 18 and X-class. \nRegistration is currently available online at jracing.org. Cost is $20 for single handed boats and $30 for double handed boats. Payment can be made by email transfer to: ILCAN_masters@jsca.bc.ca or in person from 10:00 hrs Saturday morning. A competitor’s meeting will be held at 1200 hrs Saturday with racing starting at 1300 hrs Saturday and 1230 hrs Sunday. \nCompetitors may pre-register and view results online at jracing.org. \nClick here for 2022 Flights of Spring NoR \nFlights of Spring SIs April 2022
URL:https://jsca.bc.ca/event/2022-flights-of-spring-regatta/2022-04-17/
LOCATION:Jericho Sailing Centre\, 1300 Discovery St\, Vancouver\, British Columbia\, V6R 4L9\, Canada
CATEGORIES:Sail
ATTACH;FMTTYPE=image/jpeg:https://jsca.bc.ca/wp-content/uploads/2022/01/z30858753_1762537730479284_3808367083165323459_o.jpg
END:VEVENT
BEGIN:VEVENT
DTSTART;TZID=America/Vancouver:20220416T100000
DTEND;TZID=America/Vancouver:20220416T170000
DTSTAMP:20260420T194917
CREATED:20220131T193127Z
LAST-MODIFIED:20220415T184755Z
UID:10001295-1650103200-1650128400@jsca.bc.ca
SUMMARY:2022 Flights of Spring Regatta
DESCRIPTION:Hosted by the Jericho ILCA (Laser) fleet this regatta is open to ILCA 7\, ILCA 6\, ILCA 4\, Tasar\, F18\, Hobie 18 and X-class. \nRegistration is currently available online at jracing.org. Cost is $20 for single handed boats and $30 for double handed boats. Payment can be made by email transfer to: ILCAN_masters@jsca.bc.ca or in person from 10:00 hrs Saturday morning. A competitor’s meeting will be held at 1200 hrs Saturday with racing starting at 1300 hrs Saturday and 1230 hrs Sunday. \nCompetitors may pre-register and view results online at jracing.org. \nClick here for 2022 Flights of Spring NoR \nFlights of Spring SIs April 2022
URL:https://jsca.bc.ca/event/2022-flights-of-spring-regatta/2022-04-16/
LOCATION:Jericho Sailing Centre\, 1300 Discovery St\, Vancouver\, British Columbia\, V6R 4L9\, Canada
CATEGORIES:Sail
ATTACH;FMTTYPE=image/jpeg:https://jsca.bc.ca/wp-content/uploads/2022/01/z30858753_1762537730479284_3808367083165323459_o.jpg
END:VEVENT
BEGIN:VEVENT
DTSTART;TZID=America/Vancouver:20220414T180000
DTEND;TZID=America/Vancouver:20220414T180000
DTSTAMP:20260420T194917
CREATED:20220123T223717Z
LAST-MODIFIED:20220123T225812Z
UID:10001259-1649959200-1649959200@jsca.bc.ca
SUMMARY:Jericho Wavechaser Paddle Race Series
DESCRIPTION:Paddle racing every Thursday evening from mid April to the end of August open to all level of paddlers in outrigger\, SUP\, surfski\, prone\, and kayak. Courses vary depending on conditions. Each race night has a short and a long course. Check-in starts at 6 pm\, race starts at 7 pm. Registration details and further information available at wavechaser.jsca.bc.ca. \nRace fees are $5 for Jericho Sailing Centre members and $10 for non-members.
URL:https://jsca.bc.ca/event/jericho-wavechaser-paddle-race-series/2022-04-14/
LOCATION:Jericho Sailing Centre\, 1300 Discovery St\, Vancouver\, British Columbia\, V6R 4L9\, Canada
CATEGORIES:Jericho Paddling Club,Paddle,Wavechaser
ATTACH;FMTTYPE=image/jpeg:https://jsca.bc.ca/wp-content/uploads/2021/06/Wavechaser_image.jpg
END:VEVENT
BEGIN:VEVENT
DTSTART;TZID=America/Vancouver:20211213T190000
DTEND;TZID=America/Vancouver:20211213T210000
DTSTAMP:20260420T194917
CREATED:20211114T231839Z
LAST-MODIFIED:20211114T231839Z
UID:10001239-1639422000-1639429200@jsca.bc.ca
SUMMARY:Planning Committee Meeting
DESCRIPTION:The Planning Committee provides a structure for the on-going function and development of the Jericho Sailing Centre Association. Interested members are asked to contact the JSCA office for a link to the Zoom meeting.
URL:https://jsca.bc.ca/event/planning-committee-meeting/
LOCATION:Virtual
CATEGORIES:JSCA Governance
ORGANIZER;CN="Jericho Sailing Centre Association":MAILTO:info@jsca.bc.ca
END:VEVENT
BEGIN:VEVENT
DTSTART;TZID=America/Vancouver:20211130T180000
DTEND;TZID=America/Vancouver:20211130T200000
DTSTAMP:20260420T194917
CREATED:20211027T225559Z
LAST-MODIFIED:20211027T225559Z
UID:10001236-1638295200-1638302400@jsca.bc.ca
SUMMARY:Programmes Committee 2022 Event Planning Meeting
DESCRIPTION:Join us to help plan our 2022 event calendar. This is the meeting where interested parties from local fleets and clubs get together and plan our racing and event schedule for the coming year. If you have an event you’d like to add to our calendar or if you have an idea to improve how we run our programmes this is the meeting for you. \nPlease click here to email Dominique our safety and events manager for a Zoom meeting invitation.
URL:https://jsca.bc.ca/event/programmes-committee-2022-event-planning-meeting/
LOCATION:Virtual
CATEGORIES:JSCA Governance,Paddle,Sail
ORGANIZER;CN="Jericho Sailing Centre Association":MAILTO:info@jsca.bc.ca
END:VEVENT
BEGIN:VEVENT
DTSTART;TZID=America/Vancouver:20211124T180000
DTEND;TZID=America/Vancouver:20211124T200000
DTSTAMP:20260420T194917
CREATED:20211104T214437Z
LAST-MODIFIED:20211104T214437Z
UID:10001238-1637776800-1637784000@jsca.bc.ca
SUMMARY:JSCA Safety Committee meeting
DESCRIPTION:Zoom meeting to review the previous year and preview the coming year. Agenda will be sent out closer to the meeting date… but all the usual topics will be covered. \nThe meeting is open to all JSCA members and we encourage Jericho Rescue members to attend. Please make sure your Zoom screen name matches your real name. Please contact the JSCA office to be forwarded the Zoom link and agenda.
URL:https://jsca.bc.ca/event/jsca-safety-committee-meeting/
LOCATION:Virtual
CATEGORIES:JSCA Governance,Safety
ORGANIZER;CN="Jericho Sailing Centre Association":MAILTO:info@jsca.bc.ca
END:VEVENT
BEGIN:VEVENT
DTSTART;TZID=America/Vancouver:20211117T190000
DTEND;TZID=America/Vancouver:20211117T210000
DTSTAMP:20260420T194917
CREATED:20211104T213257Z
LAST-MODIFIED:20211104T213257Z
UID:10001237-1637175600-1637182800@jsca.bc.ca
SUMMARY:JSCA Operations Committee meeting
DESCRIPTION:The JSCA Operations Committee provides guidance to the organization on facilities upgrades and maintenance. The committee is open to all interested JSCA members. \nIf you’d wish to attend\, please contact the JSCA office for a Zoom meeting link.
URL:https://jsca.bc.ca/event/jsca-operations-committee-meeting/
LOCATION:Virtual
CATEGORIES:JSCA Governance
ORGANIZER;CN="Jericho Sailing Centre Association":MAILTO:info@jsca.bc.ca
END:VEVENT
BEGIN:VEVENT
DTSTART;TZID=America/Vancouver:20211109T190000
DTEND;TZID=America/Vancouver:20211109T190000
DTSTAMP:20260420T194917
CREATED:20210129T232315Z
LAST-MODIFIED:20210129T233236Z
UID:10001200-1636484400-1636484400@jsca.bc.ca
SUMMARY:JSCA Board of Directors meeting
DESCRIPTION:Meeting of the JSCA’s Board of Directors.  Members of the association are always welcome to observe the meetings.   If there is a particular issue that a member would like to bring up with the board it is asked that they provide Mike Cotter\, our general manager\, with a request to do so before hand.
URL:https://jsca.bc.ca/event/jsca-board-of-directors-meeting-8/
LOCATION:British Columbia
CATEGORIES:JSCA Governance
ATTACH;FMTTYPE=image/jpeg:https://jsca.bc.ca/wp-content/uploads/2019/12/Board_Meeting-1.jpg
ORGANIZER;CN="Jericho Sailing Centre Association":MAILTO:info@jsca.bc.ca
END:VEVENT
BEGIN:VEVENT
DTSTART;TZID=America/Vancouver:20211026T070000
DTEND;TZID=America/Vancouver:20211026T210000
DTSTAMP:20260420T194917
CREATED:20210905T184505Z
LAST-MODIFIED:20210905T184505Z
UID:10001235-1635231600-1635282000@jsca.bc.ca
SUMMARY:JSCA Annual General Meeting (tentatively online only)
DESCRIPTION:More info to come
URL:https://jsca.bc.ca/event/jsca-annual-general-meeting-tentatively-online-only/
LOCATION:British Columbia
ORGANIZER;CN="Jericho Sailing Centre Association":MAILTO:info@jsca.bc.ca
END:VEVENT
BEGIN:VEVENT
DTSTART;TZID=America/Vancouver:20211024T123000
DTEND;TZID=America/Vancouver:20211024T170000
DTSTAMP:20260420T194917
CREATED:20210825T221012Z
LAST-MODIFIED:20210927T200307Z
UID:10001231-1635078600-1635094800@jsca.bc.ca
SUMMARY:Penguin Cup Racing
DESCRIPTION:Informal late season regular racing for Jericho style sail boats. \nCompetitors must register online at jracing.org in order to be scored. \n2021 NOTICE OF RACE Penguin Cup \nJSCA SIs with courses Jan 2020 \n 
URL:https://jsca.bc.ca/event/penguin-cup-racing/2021-10-24/
LOCATION:Jericho Sailing Centre\, 1300 Discovery St\, Vancouver\, British Columbia\, V6R 4L9\, Canada
ORGANIZER;CN="Jericho Sailing Centre Association":MAILTO:info@jsca.bc.ca
END:VEVENT
BEGIN:VEVENT
DTSTART;TZID=America/Vancouver:20211017T123000
DTEND;TZID=America/Vancouver:20211017T170000
DTSTAMP:20260420T194917
CREATED:20210825T221012Z
LAST-MODIFIED:20210927T200307Z
UID:10001230-1634473800-1634490000@jsca.bc.ca
SUMMARY:Penguin Cup Racing
DESCRIPTION:Informal late season regular racing for Jericho style sail boats. \nCompetitors must register online at jracing.org in order to be scored. \n2021 NOTICE OF RACE Penguin Cup \nJSCA SIs with courses Jan 2020 \n 
URL:https://jsca.bc.ca/event/penguin-cup-racing/2021-10-17/
LOCATION:Jericho Sailing Centre\, 1300 Discovery St\, Vancouver\, British Columbia\, V6R 4L9\, Canada
ORGANIZER;CN="Jericho Sailing Centre Association":MAILTO:info@jsca.bc.ca
END:VEVENT
BEGIN:VEVENT
DTSTART;TZID=America/Vancouver:20211012T190000
DTEND;TZID=America/Vancouver:20211012T190000
DTSTAMP:20260420T194917
CREATED:20210129T232144Z
LAST-MODIFIED:20210129T233244Z
UID:10001199-1634065200-1634065200@jsca.bc.ca
SUMMARY:JSCA Board of Directors meeting
DESCRIPTION:Meeting of the JSCA’s Board of Directors.  Members of the association are always welcome to observe the meetings.   If there is a particular issue that a member would like to bring up with the board it is asked that they provide Mike Cotter\, our general manager\, with a request to do so before hand.
URL:https://jsca.bc.ca/event/jsca-board-of-directors-meeting-7/
LOCATION:British Columbia
CATEGORIES:JSCA Governance
ATTACH;FMTTYPE=image/jpeg:https://jsca.bc.ca/wp-content/uploads/2019/12/Board_Meeting-1.jpg
ORGANIZER;CN="Jericho Sailing Centre Association":MAILTO:info@jsca.bc.ca
END:VEVENT
BEGIN:VEVENT
DTSTART;TZID=America/Vancouver:20211010T123000
DTEND;TZID=America/Vancouver:20211010T170000
DTSTAMP:20260420T194917
CREATED:20210825T221012Z
LAST-MODIFIED:20210927T200307Z
UID:10001229-1633869000-1633885200@jsca.bc.ca
SUMMARY:Penguin Cup Racing
DESCRIPTION:Informal late season regular racing for Jericho style sail boats. \nCompetitors must register online at jracing.org in order to be scored. \n2021 NOTICE OF RACE Penguin Cup \nJSCA SIs with courses Jan 2020 \n 
URL:https://jsca.bc.ca/event/penguin-cup-racing/2021-10-10/
LOCATION:Jericho Sailing Centre\, 1300 Discovery St\, Vancouver\, British Columbia\, V6R 4L9\, Canada
ORGANIZER;CN="Jericho Sailing Centre Association":MAILTO:info@jsca.bc.ca
END:VEVENT
BEGIN:VEVENT
DTSTART;TZID=America/Vancouver:20211003T123000
DTEND;TZID=America/Vancouver:20211003T170000
DTSTAMP:20260420T194917
CREATED:20210825T221012Z
LAST-MODIFIED:20210927T200307Z
UID:10001228-1633264200-1633280400@jsca.bc.ca
SUMMARY:Penguin Cup Racing
DESCRIPTION:Informal late season regular racing for Jericho style sail boats. \nCompetitors must register online at jracing.org in order to be scored. \n2021 NOTICE OF RACE Penguin Cup \nJSCA SIs with courses Jan 2020 \n 
URL:https://jsca.bc.ca/event/penguin-cup-racing/2021-10-03/
LOCATION:Jericho Sailing Centre\, 1300 Discovery St\, Vancouver\, British Columbia\, V6R 4L9\, Canada
ORGANIZER;CN="Jericho Sailing Centre Association":MAILTO:info@jsca.bc.ca
END:VEVENT
BEGIN:VEVENT
DTSTART;TZID=America/Vancouver:20210926T080000
DTEND;TZID=America/Vancouver:20210926T170000
DTSTAMP:20260420T194917
CREATED:20210825T223444Z
LAST-MODIFIED:20210825T223444Z
UID:10001233-1632643200-1632675600@jsca.bc.ca
SUMMARY:UBC Day of the Longboat
DESCRIPTION:
URL:https://jsca.bc.ca/event/ubc-day-of-the-longboat/2021-09-26/
LOCATION:Jericho Sailing Centre\, 1300 Discovery St\, Vancouver\, British Columbia\, V6R 4L9\, Canada
ATTACH;FMTTYPE=image/jpeg:https://jsca.bc.ca/wp-content/uploads/2018/09/lb2.jpg
END:VEVENT
BEGIN:VEVENT
DTSTART;TZID=America/Vancouver:20210925T080000
DTEND;TZID=America/Vancouver:20210925T170000
DTSTAMP:20260420T194917
CREATED:20210825T223444Z
LAST-MODIFIED:20210825T223444Z
UID:10001232-1632556800-1632589200@jsca.bc.ca
SUMMARY:UBC Day of the Longboat
DESCRIPTION:
URL:https://jsca.bc.ca/event/ubc-day-of-the-longboat/2021-09-25/
LOCATION:Jericho Sailing Centre\, 1300 Discovery St\, Vancouver\, British Columbia\, V6R 4L9\, Canada
ATTACH;FMTTYPE=image/jpeg:https://jsca.bc.ca/wp-content/uploads/2018/09/lb2.jpg
END:VEVENT
BEGIN:VEVENT
DTSTART;TZID=America/Vancouver:20210919T123000
DTEND;TZID=America/Vancouver:20210919T170000
DTSTAMP:20260420T194917
CREATED:20210825T221012Z
LAST-MODIFIED:20210927T200307Z
UID:10001227-1632054600-1632070800@jsca.bc.ca
SUMMARY:Penguin Cup Racing
DESCRIPTION:Informal late season regular racing for Jericho style sail boats. \nCompetitors must register online at jracing.org in order to be scored. \n2021 NOTICE OF RACE Penguin Cup \nJSCA SIs with courses Jan 2020 \n 
URL:https://jsca.bc.ca/event/penguin-cup-racing/2021-09-19/
LOCATION:Jericho Sailing Centre\, 1300 Discovery St\, Vancouver\, British Columbia\, V6R 4L9\, Canada
ORGANIZER;CN="Jericho Sailing Centre Association":MAILTO:info@jsca.bc.ca
END:VEVENT
BEGIN:VEVENT
DTSTART;TZID=America/Vancouver:20210918T120000
DTEND;TZID=America/Vancouver:20210918T120000
DTSTAMP:20260420T194917
CREATED:20210722T021741Z
LAST-MODIFIED:20210907T194323Z
UID:10001045-1631966400-1631966400@jsca.bc.ca
SUMMARY:2021 Bailiff Auction – POSTPONED
DESCRIPTION:
URL:https://jsca.bc.ca/event/2021-bailiff-auction/
LOCATION:Jericho Sailing Centre\, 1300 Discovery St\, Vancouver\, British Columbia\, V6R 4L9\, Canada
ORGANIZER;CN="Jericho Sailing Centre Association":MAILTO:info@jsca.bc.ca
END:VEVENT
END:VCALENDAR