BEGIN:VCALENDAR
VERSION:2.0
PRODID:-//Jericho Sailing Centre - ECPv6.15.20//NONSGML v1.0//EN
CALSCALE:GREGORIAN
METHOD:PUBLISH
X-WR-CALNAME:Jericho Sailing Centre
X-ORIGINAL-URL:https://jsca.bc.ca
X-WR-CALDESC:Events for Jericho Sailing Centre
REFRESH-INTERVAL;VALUE=DURATION:PT1H
X-Robots-Tag:noindex
X-PUBLISHED-TTL:PT1H
BEGIN:VTIMEZONE
TZID:America/Vancouver
BEGIN:DAYLIGHT
TZOFFSETFROM:-0800
TZOFFSETTO:-0700
TZNAME:PDT
DTSTART:20250309T100000
END:DAYLIGHT
BEGIN:STANDARD
TZOFFSETFROM:-0700
TZOFFSETTO:-0800
TZNAME:PST
DTSTART:20251102T090000
END:STANDARD
BEGIN:DAYLIGHT
TZOFFSETFROM:-0800
TZOFFSETTO:-0700
TZNAME:PDT
DTSTART:20260308T100000
END:DAYLIGHT
BEGIN:STANDARD
TZOFFSETFROM:-0700
TZOFFSETTO:-0800
TZNAME:PST
DTSTART:20261101T090000
END:STANDARD
BEGIN:DAYLIGHT
TZOFFSETFROM:-0800
TZOFFSETTO:-0700
TZNAME:PDT
DTSTART:20270314T100000
END:DAYLIGHT
BEGIN:STANDARD
TZOFFSETFROM:-0700
TZOFFSETTO:-0800
TZNAME:PST
DTSTART:20271107T090000
END:STANDARD
END:VTIMEZONE
BEGIN:VEVENT
DTSTART;TZID=America/Vancouver:20260507T170000
DTEND;TZID=America/Vancouver:20260507T193000
DTSTAMP:20260420T174033
CREATED:20260420T185145Z
LAST-MODIFIED:20260420T185642Z
UID:10002458-1778173200-1778182200@jsca.bc.ca
SUMMARY:Rookie Laser Fleet Training Clinics
DESCRIPTION:The Jericho ILCA Fleet is hosting Laser race training clinics this season to help everyone in the fleet get faster\, build confidence around the racecourse and get to know each other better. \nCasual\, free\, and led by experienced local sailors. Sailors of all levels are welcome — whether you’re new to racing or looking to sharpen your skills\, you’ll pick up something \n\nThursday May 7 – Rigging\, Boat Setup\, Race Theory – Shore session only.    Lead – Greg Speakman\nSaturday May 9 – Starts and Mark Rounding – On the Water.   Lead – Bob Ennenberg\nSaturday May 30 – Downwind Speed – On the Water.   Lead – Tony Martin\nSaturday June 13 – Upwind Speed – On the Water.   Lead – David G\n\nTo register contact the clinic lead for each session.
URL:https://jsca.bc.ca/event/rookie-laser-fleet-training-clinics/2026-05-07/
LOCATION:Jericho Sailing Centre\, 1300 Discovery St\, Vancouver\, British Columbia\, V6R 4L9\, Canada
ATTACH;FMTTYPE=image/jpeg:https://jsca.bc.ca/wp-content/uploads/2025/07/Sailboats-going-around-mark-in-front-of-pt-grey-e1776711395674.jpg
ORGANIZER;CN="Jericho Sailing Centre Association":MAILTO:info@jsca.bc.ca
END:VEVENT
BEGIN:VEVENT
DTSTART;TZID=America/Vancouver:20260509T100000
DTEND;TZID=America/Vancouver:20260509T150000
DTSTAMP:20260420T174033
CREATED:20260420T185145Z
LAST-MODIFIED:20260420T185642Z
UID:10002459-1778320800-1778338800@jsca.bc.ca
SUMMARY:Rookie Laser Fleet Training Clinics
DESCRIPTION:The Jericho ILCA Fleet is hosting Laser race training clinics this season to help everyone in the fleet get faster\, build confidence around the racecourse and get to know each other better. \nCasual\, free\, and led by experienced local sailors. Sailors of all levels are welcome — whether you’re new to racing or looking to sharpen your skills\, you’ll pick up something \n\nThursday May 7 – Rigging\, Boat Setup\, Race Theory – Shore session only.    Lead – Greg Speakman\nSaturday May 9 – Starts and Mark Rounding – On the Water.   Lead – Bob Ennenberg\nSaturday May 30 – Downwind Speed – On the Water.   Lead – Tony Martin\nSaturday June 13 – Upwind Speed – On the Water.   Lead – David G\n\nTo register contact the clinic lead for each session.
URL:https://jsca.bc.ca/event/rookie-laser-fleet-training-clinics/2026-05-09/
LOCATION:Jericho Sailing Centre\, 1300 Discovery St\, Vancouver\, British Columbia\, V6R 4L9\, Canada
ATTACH;FMTTYPE=image/jpeg:https://jsca.bc.ca/wp-content/uploads/2025/07/Sailboats-going-around-mark-in-front-of-pt-grey-e1776711395674.jpg
ORGANIZER;CN="Jericho Sailing Centre Association":MAILTO:info@jsca.bc.ca
END:VEVENT
BEGIN:VEVENT
DTSTART;TZID=America/Vancouver:20260530T100000
DTEND;TZID=America/Vancouver:20260530T150000
DTSTAMP:20260420T174033
CREATED:20260420T185145Z
LAST-MODIFIED:20260420T185642Z
UID:10002460-1780135200-1780153200@jsca.bc.ca
SUMMARY:Rookie Laser Fleet Training Clinics
DESCRIPTION:The Jericho ILCA Fleet is hosting Laser race training clinics this season to help everyone in the fleet get faster\, build confidence around the racecourse and get to know each other better. \nCasual\, free\, and led by experienced local sailors. Sailors of all levels are welcome — whether you’re new to racing or looking to sharpen your skills\, you’ll pick up something \n\nThursday May 7 – Rigging\, Boat Setup\, Race Theory – Shore session only.    Lead – Greg Speakman\nSaturday May 9 – Starts and Mark Rounding – On the Water.   Lead – Bob Ennenberg\nSaturday May 30 – Downwind Speed – On the Water.   Lead – Tony Martin\nSaturday June 13 – Upwind Speed – On the Water.   Lead – David G\n\nTo register contact the clinic lead for each session.
URL:https://jsca.bc.ca/event/rookie-laser-fleet-training-clinics/2026-05-30/
LOCATION:Jericho Sailing Centre\, 1300 Discovery St\, Vancouver\, British Columbia\, V6R 4L9\, Canada
ATTACH;FMTTYPE=image/jpeg:https://jsca.bc.ca/wp-content/uploads/2025/07/Sailboats-going-around-mark-in-front-of-pt-grey-e1776711395674.jpg
ORGANIZER;CN="Jericho Sailing Centre Association":MAILTO:info@jsca.bc.ca
END:VEVENT
BEGIN:VEVENT
DTSTART;TZID=America/Vancouver:20260613T100000
DTEND;TZID=America/Vancouver:20260613T150000
DTSTAMP:20260420T174033
CREATED:20260420T185145Z
LAST-MODIFIED:20260420T185642Z
UID:10002461-1781344800-1781362800@jsca.bc.ca
SUMMARY:Rookie Laser Fleet Training Clinics
DESCRIPTION:The Jericho ILCA Fleet is hosting Laser race training clinics this season to help everyone in the fleet get faster\, build confidence around the racecourse and get to know each other better. \nCasual\, free\, and led by experienced local sailors. Sailors of all levels are welcome — whether you’re new to racing or looking to sharpen your skills\, you’ll pick up something \n\nThursday May 7 – Rigging\, Boat Setup\, Race Theory – Shore session only.    Lead – Greg Speakman\nSaturday May 9 – Starts and Mark Rounding – On the Water.   Lead – Bob Ennenberg\nSaturday May 30 – Downwind Speed – On the Water.   Lead – Tony Martin\nSaturday June 13 – Upwind Speed – On the Water.   Lead – David G\n\nTo register contact the clinic lead for each session.
URL:https://jsca.bc.ca/event/rookie-laser-fleet-training-clinics/2026-06-13/
LOCATION:Jericho Sailing Centre\, 1300 Discovery St\, Vancouver\, British Columbia\, V6R 4L9\, Canada
ATTACH;FMTTYPE=image/jpeg:https://jsca.bc.ca/wp-content/uploads/2025/07/Sailboats-going-around-mark-in-front-of-pt-grey-e1776711395674.jpg
ORGANIZER;CN="Jericho Sailing Centre Association":MAILTO:info@jsca.bc.ca
END:VEVENT
END:VCALENDAR