BEGIN:VCALENDAR
VERSION:2.0
PRODID:-//Jericho Sailing Centre - ECPv6.15.20//NONSGML v1.0//EN
CALSCALE:GREGORIAN
METHOD:PUBLISH
X-ORIGINAL-URL:https://jsca.bc.ca
X-WR-CALDESC:Events for Jericho Sailing Centre
REFRESH-INTERVAL;VALUE=DURATION:PT1H
X-Robots-Tag:noindex
X-PUBLISHED-TTL:PT1H
BEGIN:VTIMEZONE
TZID:America/Vancouver
BEGIN:DAYLIGHT
TZOFFSETFROM:-0800
TZOFFSETTO:-0700
TZNAME:PDT
DTSTART:20220313T100000
END:DAYLIGHT
BEGIN:STANDARD
TZOFFSETFROM:-0700
TZOFFSETTO:-0800
TZNAME:PST
DTSTART:20221106T090000
END:STANDARD
BEGIN:DAYLIGHT
TZOFFSETFROM:-0800
TZOFFSETTO:-0700
TZNAME:PDT
DTSTART:20230312T100000
END:DAYLIGHT
BEGIN:STANDARD
TZOFFSETFROM:-0700
TZOFFSETTO:-0800
TZNAME:PST
DTSTART:20231105T090000
END:STANDARD
BEGIN:DAYLIGHT
TZOFFSETFROM:-0800
TZOFFSETTO:-0700
TZNAME:PDT
DTSTART:20240310T100000
END:DAYLIGHT
BEGIN:STANDARD
TZOFFSETFROM:-0700
TZOFFSETTO:-0800
TZNAME:PST
DTSTART:20241103T090000
END:STANDARD
END:VTIMEZONE
BEGIN:VEVENT
DTSTART;TZID=America/Vancouver:20230107T100000
DTEND;TZID=America/Vancouver:20230107T120000
DTSTAMP:20260420T152724
CREATED:20221213T182409Z
LAST-MODIFIED:20221213T183153Z
UID:10001319-1673085600-1673092800@jsca.bc.ca
SUMMARY:Jericho Beach Kayak Winter Group Paddle
DESCRIPTION:A group paddle every Saturday launching from Jericho Beach. \nEnglish Bay is beautiful in the winter\, even on rainy days\, as it is beautifully calm and serene. On top of that\, there are few other boats. Sometimes we see great views of our beautiful snow-capped mountains and the water is often crystal clear. \nPlease make sure you are dressed for the weather and the water. \nEverybody (beginners and experienced paddlers alike) are welcome!
URL:https://jsca.bc.ca/event/jericho-beach-kayak-winter-group-paddle/2023-01-07/
LOCATION:Jericho Sailing Centre\, 1300 Discovery St\, Vancouver\, British Columbia\, V6R 4L9\, Canada
CATEGORIES:Paddle,Public Social Events
ATTACH;FMTTYPE=image/jpeg:https://jsca.bc.ca/wp-content/uploads/2022/12/JBK_WinterPaddle.jpg
ORGANIZER;CN="Jericho Beach Kayak Centre":MAILTO:info@jerichobeachkayak.com
END:VEVENT
BEGIN:VEVENT
DTSTART;TZID=America/Vancouver:20230114T100000
DTEND;TZID=America/Vancouver:20230114T120000
DTSTAMP:20260420T152724
CREATED:20221213T182409Z
LAST-MODIFIED:20221213T183153Z
UID:10001320-1673690400-1673697600@jsca.bc.ca
SUMMARY:Jericho Beach Kayak Winter Group Paddle
DESCRIPTION:A group paddle every Saturday launching from Jericho Beach. \nEnglish Bay is beautiful in the winter\, even on rainy days\, as it is beautifully calm and serene. On top of that\, there are few other boats. Sometimes we see great views of our beautiful snow-capped mountains and the water is often crystal clear. \nPlease make sure you are dressed for the weather and the water. \nEverybody (beginners and experienced paddlers alike) are welcome!
URL:https://jsca.bc.ca/event/jericho-beach-kayak-winter-group-paddle/2023-01-14/
LOCATION:Jericho Sailing Centre\, 1300 Discovery St\, Vancouver\, British Columbia\, V6R 4L9\, Canada
CATEGORIES:Paddle,Public Social Events
ATTACH;FMTTYPE=image/jpeg:https://jsca.bc.ca/wp-content/uploads/2022/12/JBK_WinterPaddle.jpg
ORGANIZER;CN="Jericho Beach Kayak Centre":MAILTO:info@jerichobeachkayak.com
END:VEVENT
BEGIN:VEVENT
DTSTART;TZID=America/Vancouver:20230121T100000
DTEND;TZID=America/Vancouver:20230121T120000
DTSTAMP:20260420T152724
CREATED:20221213T182409Z
LAST-MODIFIED:20221213T183153Z
UID:10001321-1674295200-1674302400@jsca.bc.ca
SUMMARY:Jericho Beach Kayak Winter Group Paddle
DESCRIPTION:A group paddle every Saturday launching from Jericho Beach. \nEnglish Bay is beautiful in the winter\, even on rainy days\, as it is beautifully calm and serene. On top of that\, there are few other boats. Sometimes we see great views of our beautiful snow-capped mountains and the water is often crystal clear. \nPlease make sure you are dressed for the weather and the water. \nEverybody (beginners and experienced paddlers alike) are welcome!
URL:https://jsca.bc.ca/event/jericho-beach-kayak-winter-group-paddle/2023-01-21/
LOCATION:Jericho Sailing Centre\, 1300 Discovery St\, Vancouver\, British Columbia\, V6R 4L9\, Canada
CATEGORIES:Paddle,Public Social Events
ATTACH;FMTTYPE=image/jpeg:https://jsca.bc.ca/wp-content/uploads/2022/12/JBK_WinterPaddle.jpg
ORGANIZER;CN="Jericho Beach Kayak Centre":MAILTO:info@jerichobeachkayak.com
END:VEVENT
BEGIN:VEVENT
DTSTART;TZID=America/Vancouver:20230128T100000
DTEND;TZID=America/Vancouver:20230128T120000
DTSTAMP:20260420T152724
CREATED:20221213T182409Z
LAST-MODIFIED:20221213T183153Z
UID:10001322-1674900000-1674907200@jsca.bc.ca
SUMMARY:Jericho Beach Kayak Winter Group Paddle
DESCRIPTION:A group paddle every Saturday launching from Jericho Beach. \nEnglish Bay is beautiful in the winter\, even on rainy days\, as it is beautifully calm and serene. On top of that\, there are few other boats. Sometimes we see great views of our beautiful snow-capped mountains and the water is often crystal clear. \nPlease make sure you are dressed for the weather and the water. \nEverybody (beginners and experienced paddlers alike) are welcome!
URL:https://jsca.bc.ca/event/jericho-beach-kayak-winter-group-paddle/2023-01-28/
LOCATION:Jericho Sailing Centre\, 1300 Discovery St\, Vancouver\, British Columbia\, V6R 4L9\, Canada
CATEGORIES:Paddle,Public Social Events
ATTACH;FMTTYPE=image/jpeg:https://jsca.bc.ca/wp-content/uploads/2022/12/JBK_WinterPaddle.jpg
ORGANIZER;CN="Jericho Beach Kayak Centre":MAILTO:info@jerichobeachkayak.com
END:VEVENT
END:VCALENDAR