BEGIN:VCALENDAR
VERSION:2.0
PRODID:-//Jericho Sailing Centre - ECPv6.15.20//NONSGML v1.0//EN
CALSCALE:GREGORIAN
METHOD:PUBLISH
X-WR-CALNAME:Jericho Sailing Centre
X-ORIGINAL-URL:https://jsca.bc.ca
X-WR-CALDESC:Events for Jericho Sailing Centre
REFRESH-INTERVAL;VALUE=DURATION:PT1H
X-Robots-Tag:noindex
X-PUBLISHED-TTL:PT1H
BEGIN:VTIMEZONE
TZID:America/Vancouver
BEGIN:DAYLIGHT
TZOFFSETFROM:-0800
TZOFFSETTO:-0700
TZNAME:PDT
DTSTART:20230312T100000
END:DAYLIGHT
BEGIN:STANDARD
TZOFFSETFROM:-0700
TZOFFSETTO:-0800
TZNAME:PST
DTSTART:20231105T090000
END:STANDARD
BEGIN:DAYLIGHT
TZOFFSETFROM:-0800
TZOFFSETTO:-0700
TZNAME:PDT
DTSTART:20240310T100000
END:DAYLIGHT
BEGIN:STANDARD
TZOFFSETFROM:-0700
TZOFFSETTO:-0800
TZNAME:PST
DTSTART:20241103T090000
END:STANDARD
BEGIN:DAYLIGHT
TZOFFSETFROM:-0800
TZOFFSETTO:-0700
TZNAME:PDT
DTSTART:20250309T100000
END:DAYLIGHT
BEGIN:STANDARD
TZOFFSETFROM:-0700
TZOFFSETTO:-0800
TZNAME:PST
DTSTART:20251102T090000
END:STANDARD
END:VTIMEZONE
BEGIN:VEVENT
DTSTART;TZID=America/Vancouver:20240203T100000
DTEND;TZID=America/Vancouver:20240203T120000
DTSTAMP:20260419T201326
CREATED:20240116T184310Z
LAST-MODIFIED:20240116T184914Z
UID:10001843-1706954400-1706961600@jsca.bc.ca
SUMMARY:Saturday Winter Social Paddle – Jericho Beach Kayak
DESCRIPTION:Do you want to continue kayaking throughout the off-season? Or want to give kayaking a try and enjoy the calm waters we get in the winter? \nJoin us every Saturday for a group paddle right from Jericho Beach. \nEnglish Bay is beautiful in the winter\, even on rainy days\, as it is beautifully calm and serene. On top of that\, there are few other boats sometimes great views of our beautiful snow-capped mountains and crystal clear water. \nPlease make sure you are dressed for the weather and the water. \nEverybody (beginners and experienced paddlers alike) is welcome with rental kayaks available! JSCA members with their own boats are also welcome to join the programme and enjoy the safety of the group and the guide.
URL:https://jsca.bc.ca/event/saturday-winter-social-paddle-jericho-beach-kayak/2024-02-03/
LOCATION:Jericho Sailing Centre\, 1300 Discovery St\, Vancouver\, British Columbia\, V6R 4L9\, Canada
CATEGORIES:Paddle,Public Social Events,Social Paddle
ATTACH;FMTTYPE=image/jpeg:https://jsca.bc.ca/wp-content/uploads/2020/10/Tour_Winter.jpg
ORGANIZER;CN="Jericho Beach Kayak Centre":MAILTO:info@jerichobeachkayak.com
END:VEVENT
BEGIN:VEVENT
DTSTART;TZID=America/Vancouver:20240210T100000
DTEND;TZID=America/Vancouver:20240210T120000
DTSTAMP:20260419T201326
CREATED:20240116T184310Z
LAST-MODIFIED:20240116T184914Z
UID:10001844-1707559200-1707566400@jsca.bc.ca
SUMMARY:Saturday Winter Social Paddle – Jericho Beach Kayak
DESCRIPTION:Do you want to continue kayaking throughout the off-season? Or want to give kayaking a try and enjoy the calm waters we get in the winter? \nJoin us every Saturday for a group paddle right from Jericho Beach. \nEnglish Bay is beautiful in the winter\, even on rainy days\, as it is beautifully calm and serene. On top of that\, there are few other boats sometimes great views of our beautiful snow-capped mountains and crystal clear water. \nPlease make sure you are dressed for the weather and the water. \nEverybody (beginners and experienced paddlers alike) is welcome with rental kayaks available! JSCA members with their own boats are also welcome to join the programme and enjoy the safety of the group and the guide.
URL:https://jsca.bc.ca/event/saturday-winter-social-paddle-jericho-beach-kayak/2024-02-10/
LOCATION:Jericho Sailing Centre\, 1300 Discovery St\, Vancouver\, British Columbia\, V6R 4L9\, Canada
CATEGORIES:Paddle,Public Social Events,Social Paddle
ATTACH;FMTTYPE=image/jpeg:https://jsca.bc.ca/wp-content/uploads/2020/10/Tour_Winter.jpg
ORGANIZER;CN="Jericho Beach Kayak Centre":MAILTO:info@jerichobeachkayak.com
END:VEVENT
BEGIN:VEVENT
DTSTART;TZID=America/Vancouver:20240217T100000
DTEND;TZID=America/Vancouver:20240217T120000
DTSTAMP:20260419T201326
CREATED:20240116T184310Z
LAST-MODIFIED:20240116T184914Z
UID:10001845-1708164000-1708171200@jsca.bc.ca
SUMMARY:Saturday Winter Social Paddle – Jericho Beach Kayak
DESCRIPTION:Do you want to continue kayaking throughout the off-season? Or want to give kayaking a try and enjoy the calm waters we get in the winter? \nJoin us every Saturday for a group paddle right from Jericho Beach. \nEnglish Bay is beautiful in the winter\, even on rainy days\, as it is beautifully calm and serene. On top of that\, there are few other boats sometimes great views of our beautiful snow-capped mountains and crystal clear water. \nPlease make sure you are dressed for the weather and the water. \nEverybody (beginners and experienced paddlers alike) is welcome with rental kayaks available! JSCA members with their own boats are also welcome to join the programme and enjoy the safety of the group and the guide.
URL:https://jsca.bc.ca/event/saturday-winter-social-paddle-jericho-beach-kayak/2024-02-17/
LOCATION:Jericho Sailing Centre\, 1300 Discovery St\, Vancouver\, British Columbia\, V6R 4L9\, Canada
CATEGORIES:Paddle,Public Social Events,Social Paddle
ATTACH;FMTTYPE=image/jpeg:https://jsca.bc.ca/wp-content/uploads/2020/10/Tour_Winter.jpg
ORGANIZER;CN="Jericho Beach Kayak Centre":MAILTO:info@jerichobeachkayak.com
END:VEVENT
BEGIN:VEVENT
DTSTART;TZID=America/Vancouver:20240224T100000
DTEND;TZID=America/Vancouver:20240224T120000
DTSTAMP:20260419T201326
CREATED:20240116T184310Z
LAST-MODIFIED:20240116T184914Z
UID:10001846-1708768800-1708776000@jsca.bc.ca
SUMMARY:Saturday Winter Social Paddle – Jericho Beach Kayak
DESCRIPTION:Do you want to continue kayaking throughout the off-season? Or want to give kayaking a try and enjoy the calm waters we get in the winter? \nJoin us every Saturday for a group paddle right from Jericho Beach. \nEnglish Bay is beautiful in the winter\, even on rainy days\, as it is beautifully calm and serene. On top of that\, there are few other boats sometimes great views of our beautiful snow-capped mountains and crystal clear water. \nPlease make sure you are dressed for the weather and the water. \nEverybody (beginners and experienced paddlers alike) is welcome with rental kayaks available! JSCA members with their own boats are also welcome to join the programme and enjoy the safety of the group and the guide.
URL:https://jsca.bc.ca/event/saturday-winter-social-paddle-jericho-beach-kayak/2024-02-24/
LOCATION:Jericho Sailing Centre\, 1300 Discovery St\, Vancouver\, British Columbia\, V6R 4L9\, Canada
CATEGORIES:Paddle,Public Social Events,Social Paddle
ATTACH;FMTTYPE=image/jpeg:https://jsca.bc.ca/wp-content/uploads/2020/10/Tour_Winter.jpg
ORGANIZER;CN="Jericho Beach Kayak Centre":MAILTO:info@jerichobeachkayak.com
END:VEVENT
END:VCALENDAR